BEGIN:VCALENDAR
PRODID:-//Google Inc//Google Calendar 70.9054//EN
VERSION:2.0
CALSCALE:GREGORIAN
METHOD:PUBLISH
X-WR-CALNAME:PV Comets Neon Nightmares 11s
X-WR-TIMEZONE:Australia/Sydney
X-WR-CALDESC:PV Comets Parkville Calendars
BEGIN:VEVENT
DTSTART:20190202T101500
DTEND:20190202T105500
DTSTAMP:20190125T145841Z
UID:2b03db4ee145595635ebcc456977b319@pvna.com.au
CREATED:20190125T225841Z
DESCRIPTION:2019 Autumn Section:13&Under\nRound:Rnd 1
LAST-MODIFIED:20190125T225841Z
LOCATION:Court: 2
SEQUENCE:0
STATUS:CONFIRMED
SUMMARY:13&U-Rnd 1: Neon Nightmares 11s vs Roxy Power
TRANSP:OPAQUE
END:VEVENT
BEGIN:VEVENT
DTSTART:20190209T084500
DTEND:20190209T092500
DTSTAMP:20190125T145842Z
UID:cee34f7c2fceefc7c53630cd6da5b0e7@pvna.com.au
CREATED:20190125T225842Z
DESCRIPTION:2019 Autumn Section:13&Under\nRound:Rnd 2\n\nCurrent Ladder:\nTeam            P  W  L  D  Pts\nAwesome Angels 13s2 0  0  0  0  0 \nRoxy Jnr        0  0  0  0  0 \nRoxy Power      0  0  0  0  0 \nAwesome Angels 13s3 0  0  0  0  0 \nAwesome Angels 13s4 0  0  0  0  0 \nSS Diamonds     0  0  0  0  0 \nWildcats 13s    0  0  0  0  0 \nNB Cubs         0  0  0  0  0 \nNB Dragons      0  0  0  0  0 \nNeon Nightmares 11s 0  0  0  0  0 \nAwesome Angels 13s1 0  0  0  0  0 \n
LAST-MODIFIED:20190125T225842Z
LOCATION:Court: 1
SEQUENCE:0
STATUS:CONFIRMED
SUMMARY:13&U-Rnd 2: Wildcats 13s vs Neon Nightmares 11s
TRANSP:OPAQUE
END:VEVENT
BEGIN:VEVENT
DTSTART:20190216T110000
DTEND:20190216T114500
DTSTAMP:20190125T145842Z
UID:7d75a9306781ac7fbd558e16a1b6cb9e@pvna.com.au
CREATED:20190125T225842Z
DESCRIPTION:2019 Autumn Section:13&Under\nRound:Rnd 3
LAST-MODIFIED:20190125T225842Z
LOCATION:Court: 1
SEQUENCE:0
STATUS:CONFIRMED
SUMMARY:13&U-Rnd 3: Neon Nightmares 11s vs SS Diamonds
TRANSP:OPAQUE
END:VEVENT
BEGIN:VEVENT
DTSTART:20190223T110000
DTEND:20190223T114500
DTSTAMP:20190125T145842Z
UID:a57363449112fbca102af9e8ff89086c@pvna.com.au
CREATED:20190125T225842Z
DESCRIPTION:2019 Autumn Section:13&Under\nRound:Rnd 4
LAST-MODIFIED:20190125T225842Z
LOCATION:Court: 1
SEQUENCE:0
STATUS:CONFIRMED
SUMMARY:13&U-Rnd 4: Neon Nightmares 11s vs Awesome Angels 13s1
TRANSP:OPAQUE
END:VEVENT
BEGIN:VEVENT
DTSTART:20190302T084500
DTEND:20190302T092500
DTSTAMP:20190125T145842Z
UID:bd3570dc8902af5dbb8afd2606396a06@pvna.com.au
CREATED:20190125T225842Z
DESCRIPTION:2019 Autumn Section:13&Under\nRound:Rnd 5
LAST-MODIFIED:20190125T225842Z
LOCATION:Court: 2
SEQUENCE:0
STATUS:CONFIRMED
SUMMARY:13&U-Rnd 5: Roxy Jnr vs Neon Nightmares 11s
TRANSP:OPAQUE
END:VEVENT
BEGIN:VEVENT
DTSTART:20190309T093000
DTEND:20190309T101000
DTSTAMP:20190125T145842Z
UID:768581110accfcb84fa3d43e55921c89@pvna.com.au
CREATED:20190125T225842Z
DESCRIPTION:2019 Autumn Section:13&Under\nRound:Rnd 6
LAST-MODIFIED:20190125T225842Z
LOCATION:Court: 3
SEQUENCE:0
STATUS:CONFIRMED
SUMMARY:13&U-Rnd 6: Neon Nightmares 11s vs NB Dragons 
TRANSP:OPAQUE
END:VEVENT
BEGIN:VEVENT
DTSTART:20190316T093000
DTEND:20190316T101000
DTSTAMP:20190125T145842Z
UID:56e7c8279dfb8bbcc7a3307f901f716c@pvna.com.au
CREATED:20190125T225842Z
DESCRIPTION:2019 Autumn Section:13&Under\nRound:Rnd 7
LAST-MODIFIED:20190125T225842Z
LOCATION:Court: 1
SEQUENCE:0
STATUS:CONFIRMED
SUMMARY:13&U-Rnd 7: Neon Nightmares 11s vs NB Cubs
TRANSP:OPAQUE
END:VEVENT
BEGIN:VEVENT
DTSTART:20190323T093000
DTEND:20190323T101000
DTSTAMP:20190125T145842Z
UID:93467c7473ccbfee53d94facc83f8b46@pvna.com.au
CREATED:20190125T225842Z
DESCRIPTION:2019 Autumn Section:13&Under\nRound:Rnd 8
LAST-MODIFIED:20190125T225842Z
LOCATION:Court: 3
SEQUENCE:0
STATUS:CONFIRMED
SUMMARY:13&U-Rnd 8: Neon Nightmares 11s vs Awesome Angels 13s4
TRANSP:OPAQUE
END:VEVENT
BEGIN:VEVENT
DTSTART:20190330T093000
DTEND:20190330T101000
DTSTAMP:20190125T145842Z
UID:8557284fa39ede073a8b2f711ca5a4a8@pvna.com.au
CREATED:20190125T225842Z
DESCRIPTION:2019 Autumn Section:13&Under\nRound:Rnd 9
LAST-MODIFIED:20190125T225842Z
LOCATION:Court: 99
SEQUENCE:0
STATUS:CONFIRMED
SUMMARY:13&U-Rnd 9: Neon Nightmares 11s vs BYE
TRANSP:OPAQUE
END:VEVENT
BEGIN:VEVENT
DTSTART:20190406T093000
DTEND:20190406T101000
DTSTAMP:20190125T145842Z
UID:581948e14cc091238ac38c4240339ea6@pvna.com.au
CREATED:20190125T225842Z
DESCRIPTION:2019 Autumn Section:13&Under\nRound:Rnd 10
LAST-MODIFIED:20190125T225842Z
LOCATION:Court: 2
SEQUENCE:0
STATUS:CONFIRMED
SUMMARY:13&U-Rnd 10: Neon Nightmares 11s vs Awesome Angels 13s2
TRANSP:OPAQUE
END:VEVENT
BEGIN:VEVENT
DTSTART:20190413T084500
DTEND:20190413T092500
DTSTAMP:20190125T145842Z
UID:6b9a89568283432a7efd44fd73af3596@pvna.com.au
CREATED:20190125T225842Z
DESCRIPTION:2019 Autumn Section:13&Under\nRound:Rnd 11
LAST-MODIFIED:20190125T225842Z
LOCATION:Court: 1
SEQUENCE:0
STATUS:CONFIRMED
SUMMARY:13&U-Rnd 11: Neon Nightmares 11s vs Awesome Angels 13s3
TRANSP:OPAQUE
END:VEVENT
BEGIN:VEVENT
DTSTART:20190420T093000
DTEND:20190420T101000
DTSTAMP:20190125T145842Z
UID:46e6b3b4f41dff4c948ddab019d66349@pvna.com.au
CREATED:20190125T225842Z
DESCRIPTION:2019 Autumn Section:13&Under\nRound:Rnd 12
LAST-MODIFIED:20190125T225842Z
LOCATION:Court: 2
SEQUENCE:0
STATUS:CONFIRMED
SUMMARY:13&U-Rnd 12: Neon Nightmares 11s vs Roxy Power
TRANSP:OPAQUE
END:VEVENT
BEGIN:VEVENT
DTSTART:20190427T093000
DTEND:20190427T101000
DTSTAMP:20190125T145842Z
UID:db1864eb0a79b0515243689612f0ca2f@pvna.com.au
CREATED:20190125T225842Z
DESCRIPTION:2019 Autumn Section:13&Under\nRound:Rnd 13
LAST-MODIFIED:20190125T225842Z
LOCATION:Court: 1
SEQUENCE:0
STATUS:CONFIRMED
SUMMARY:13&U-Rnd 13: Wildcats 13s vs Neon Nightmares 11s
TRANSP:OPAQUE
END:VEVENT
BEGIN:VEVENT
DTSTART:20190504T093000
DTEND:20190504T101000
DTSTAMP:20190125T145842Z
UID:596d7f9c3ea88b91d1e05192ddd04097@pvna.com.au
CREATED:20190125T225842Z
DESCRIPTION:2019 Autumn Section:13&Under\nRound:Rnd 14
LAST-MODIFIED:20190125T225842Z
LOCATION:Court: 3
SEQUENCE:0
STATUS:CONFIRMED
SUMMARY:13&U-Rnd 14: Neon Nightmares 11s vs SS Diamonds
TRANSP:OPAQUE
END:VEVENT
BEGIN:VEVENT
DTSTART:20190511T093000
DTEND:20190511T101000
DTSTAMP:20190125T145842Z
UID:1343c665e4873003bb00b93ec20ddc90@pvna.com.au
CREATED:20190125T225842Z
DESCRIPTION:2019 Autumn Section:13&Under\nRound:Rnd 15
LAST-MODIFIED:20190125T225842Z
LOCATION:Court: 1
SEQUENCE:0
STATUS:CONFIRMED
SUMMARY:13&U-Rnd 15: Neon Nightmares 11s vs Awesome Angels 13s1
TRANSP:OPAQUE
END:VEVENT
BEGIN:VEVENT
DTSTART:20190518T093000
DTEND:20190518T101000
DTSTAMP:20190125T145842Z
UID:96dce074dbeb2a571d648a4b122c385e@pvna.com.au
CREATED:20190125T225842Z
DESCRIPTION:2019 Autumn Section:13&Under\nRound:Rnd 16
LAST-MODIFIED:20190125T225842Z
LOCATION:Court: 2
SEQUENCE:0
STATUS:CONFIRMED
SUMMARY:13&U-Rnd 16: Roxy Jnr vs Neon Nightmares 11s
TRANSP:OPAQUE
END:VEVENT
BEGIN:VEVENT
DTSTART:20190525T084500
DTEND:20190525T092500
DTSTAMP:20190125T145842Z
UID:8ad3b423236a6991d8e42607a3a8f541@pvna.com.au
CREATED:20190125T225842Z
DESCRIPTION:2019 Autumn Section:13&Under\nRound:Rnd 17
LAST-MODIFIED:20190125T225842Z
LOCATION:Court: 4
SEQUENCE:0
STATUS:CONFIRMED
SUMMARY:13&U-Rnd 17: Neon Nightmares 11s vs NB Dragons 
TRANSP:OPAQUE
END:VEVENT
BEGIN:VEVENT
DTSTART:20190601T093000
DTEND:20190601T101000
DTSTAMP:20190125T145842Z
UID:448bcf8cbbea580869f837fd6af7a0db@pvna.com.au
CREATED:20190125T225842Z
DESCRIPTION:2019 Autumn Section:13&Under\nRound:Rnd 18
LAST-MODIFIED:20190125T225842Z
LOCATION:Court: 3
SEQUENCE:0
STATUS:CONFIRMED
SUMMARY:13&U-Rnd 18: Neon Nightmares 11s vs NB Cubs
TRANSP:OPAQUE
END:VEVENT
BEGIN:VEVENT
DTSTART:20190608T093000
DTEND:20190608T101000
DTSTAMP:20190125T145842Z
UID:bb06645be3cf784484dce5d345f5fa56@pvna.com.au
CREATED:20190125T225842Z
DESCRIPTION:2019 Autumn Section:13&Under\nRound:Rnd 19
LAST-MODIFIED:20190125T225842Z
LOCATION:Court: 1
SEQUENCE:0
STATUS:CONFIRMED
SUMMARY:13&U-Rnd 19: Neon Nightmares 11s vs Awesome Angels 13s4
TRANSP:OPAQUE
END:VEVENT
BEGIN:VEVENT
DTSTART:20190615T093000
DTEND:20190615T101000
DTSTAMP:20190125T145842Z
UID:f944b3f251d55f005927174041d3a489@pvna.com.au
CREATED:20190125T225842Z
DESCRIPTION:2019 Autumn Section:13&Under\nRound:Rnd 20
LAST-MODIFIED:20190125T225842Z
LOCATION:Court: 99
SEQUENCE:0
STATUS:CONFIRMED
SUMMARY:13&U-Rnd 20: Neon Nightmares 11s vs BYE
TRANSP:OPAQUE
END:VEVENT
END:VCALENDAR
