BEGIN:VCALENDAR
PRODID:-//Google Inc//Google Calendar 70.9054//EN
VERSION:2.0
CALSCALE:GREGORIAN
METHOD:PUBLISH
X-WR-CALNAME:PV Comets Netta
X-WR-TIMEZONE:Australia/Sydney
X-WR-CALDESC:PV Comets Parkville Calendars
BEGIN:VEVENT
DTSTART:20190202T111500
DTEND:20190202T115500
DTSTAMP:20190224T120606Z
UID:b3af552265d7fd6a04e3b70f8dbc0787@pvna.com.au
CREATED:20190224T200606Z
DESCRIPTION:2019 Autumn Section:Net-Set-Go\nRound:Rnd 1
LAST-MODIFIED:20190224T200606Z
LOCATION:Court: 3
SEQUENCE:0
STATUS:CONFIRMED
SUMMARY:Net--Rnd 1: Netta vs NetSetGo!
TRANSP:OPAQUE
END:VEVENT
BEGIN:VEVENT
DTSTART:20190209T111500
DTEND:20190209T115500
DTSTAMP:20190224T120606Z
UID:19042936578f4713e55a4102e1662a9b@pvna.com.au
CREATED:20190224T200606Z
DESCRIPTION:2019 Autumn Section:Net-Set-Go\nRound:Rnd 2
LAST-MODIFIED:20190224T200606Z
LOCATION:Court: 3
SEQUENCE:0
STATUS:CONFIRMED
SUMMARY:Net--Rnd 2: Netta vs NetSetGo!
TRANSP:OPAQUE
END:VEVENT
BEGIN:VEVENT
DTSTART:20190216T111500
DTEND:20190216T115500
DTSTAMP:20190224T120606Z
UID:2b3929b62275c8b1126c0306dd72526b@pvna.com.au
CREATED:20190224T200606Z
DESCRIPTION:2019 Autumn Section:Net-Set-Go\nRound:Rnd 3
LAST-MODIFIED:20190224T200606Z
LOCATION:Court: 3
SEQUENCE:0
STATUS:CONFIRMED
SUMMARY:Net--Rnd 3: NetSetGo! vs Netta
TRANSP:OPAQUE
END:VEVENT
BEGIN:VEVENT
DTSTART:20190223T111500
DTEND:20190223T115500
DTSTAMP:20190224T120606Z
UID:5bf64589806c5f9f4be6eb38c92e0b94@pvna.com.au
CREATED:20190224T200606Z
DESCRIPTION:2019 Autumn Section:Net-Set-Go\nRound:Rnd 4
LAST-MODIFIED:20190224T200606Z
LOCATION:Court: 3
SEQUENCE:0
STATUS:CONFIRMED
SUMMARY:Net--Rnd 4: Netta vs NetSetGo!
TRANSP:OPAQUE
END:VEVENT
BEGIN:VEVENT
DTSTART:20190302T111500
DTEND:20190302T115500
DTSTAMP:20190224T120606Z
UID:96590bf255f3638204829a78d0b28d8b@pvna.com.au
CREATED:20190224T200606Z
DESCRIPTION:2019 Autumn Section:Net-Set-Go\nRound:Rnd 5\n\nCurrent Ladder:\nTeam            P  W  L  D  Pts\nNetSetGo!       4  0  0  4  8 \nNetta           4  0  0  4  8 \n
LAST-MODIFIED:20190224T200606Z
LOCATION:Court: 3
SEQUENCE:0
STATUS:CONFIRMED
SUMMARY:Net--Rnd 5: NetSetGo! vs Netta
TRANSP:OPAQUE
END:VEVENT
BEGIN:VEVENT
DTSTART:20190316T111500
DTEND:20190316T115500
DTSTAMP:20190224T120606Z
UID:94d63a49fb5cc84bbd0d3aca02c96cad@pvna.com.au
CREATED:20190224T200606Z
DESCRIPTION:2019 Autumn Section:Net-Set-Go\nRound:Rnd 6
LAST-MODIFIED:20190224T200606Z
LOCATION:Court: 3
SEQUENCE:0
STATUS:CONFIRMED
SUMMARY:Net--Rnd 6: Netta vs NetSetGo!
TRANSP:OPAQUE
END:VEVENT
BEGIN:VEVENT
DTSTART:20190323T111500
DTEND:20190323T115500
DTSTAMP:20190224T120606Z
UID:3a35476a4ed50172637be4968c011762@pvna.com.au
CREATED:20190224T200606Z
DESCRIPTION:2019 Autumn Section:Net-Set-Go\nRound:Rnd 7
LAST-MODIFIED:20190224T200606Z
LOCATION:Court: 3
SEQUENCE:0
STATUS:CONFIRMED
SUMMARY:Net--Rnd 7: NetSetGo! vs Netta
TRANSP:OPAQUE
END:VEVENT
BEGIN:VEVENT
DTSTART:20190330T111500
DTEND:20190330T115500
DTSTAMP:20190224T120606Z
UID:e8b4665166192010158847596cc5861b@pvna.com.au
CREATED:20190224T200606Z
DESCRIPTION:2019 Autumn Section:Net-Set-Go\nRound:Rnd 8
LAST-MODIFIED:20190224T200606Z
LOCATION:Court: 3
SEQUENCE:0
STATUS:CONFIRMED
SUMMARY:Net--Rnd 8: Netta vs NetSetGo!
TRANSP:OPAQUE
END:VEVENT
BEGIN:VEVENT
DTSTART:20190406T111500
DTEND:20190406T115500
DTSTAMP:20190224T120606Z
UID:d36ee6fbe0ffd17d5b89c96da8218aef@pvna.com.au
CREATED:20190224T200606Z
DESCRIPTION:2019 Autumn Section:Net-Set-Go\nRound:Rnd 9
LAST-MODIFIED:20190224T200606Z
LOCATION:Court: 3
SEQUENCE:0
STATUS:CONFIRMED
SUMMARY:Net--Rnd 9: NetSetGo! vs Netta
TRANSP:OPAQUE
END:VEVENT
BEGIN:VEVENT
DTSTART:20190427T111500
DTEND:20190427T115500
DTSTAMP:20190224T120606Z
UID:d961efc9124a8c7fc3c7b69cf0c5f3e7@pvna.com.au
CREATED:20190224T200606Z
DESCRIPTION:2019 Autumn Section:Net-Set-Go\nRound:Rnd 10
LAST-MODIFIED:20190224T200606Z
LOCATION:Court: 3
SEQUENCE:0
STATUS:CONFIRMED
SUMMARY:Net--Rnd 10: Netta vs NetSetGo!
TRANSP:OPAQUE
END:VEVENT
BEGIN:VEVENT
DTSTART:20190504T111500
DTEND:20190504T115500
DTSTAMP:20190224T120606Z
UID:70749be91b4f111f56e587417ea7fb40@pvna.com.au
CREATED:20190224T200606Z
DESCRIPTION:2019 Autumn Section:Net-Set-Go\nRound:Rnd 11
LAST-MODIFIED:20190224T200606Z
LOCATION:Court: 3
SEQUENCE:0
STATUS:CONFIRMED
SUMMARY:Net--Rnd 11: NetSetGo! vs Netta
TRANSP:OPAQUE
END:VEVENT
BEGIN:VEVENT
DTSTART:20190511T111500
DTEND:20190511T115500
DTSTAMP:20190224T120606Z
UID:87d4c67402bd81a6efc53e831f51c5a1@pvna.com.au
CREATED:20190224T200606Z
DESCRIPTION:2019 Autumn Section:Net-Set-Go\nRound:Rnd 12
LAST-MODIFIED:20190224T200606Z
LOCATION:Court: 3
SEQUENCE:0
STATUS:CONFIRMED
SUMMARY:Net--Rnd 12: Netta vs NetSetGo!
TRANSP:OPAQUE
END:VEVENT
BEGIN:VEVENT
DTSTART:20190518T111500
DTEND:20190518T115500
DTSTAMP:20190224T120606Z
UID:66250a3e48a0e52cb406add8876fd544@pvna.com.au
CREATED:20190224T200606Z
DESCRIPTION:2019 Autumn Section:Net-Set-Go\nRound:Rnd 13
LAST-MODIFIED:20190224T200606Z
LOCATION:Court: 3
SEQUENCE:0
STATUS:CONFIRMED
SUMMARY:Net--Rnd 13: NetSetGo! vs Netta
TRANSP:OPAQUE
END:VEVENT
BEGIN:VEVENT
DTSTART:20190525T111500
DTEND:20190525T115500
DTSTAMP:20190224T120606Z
UID:2c9d9ac438f0690764694807fb566e3b@pvna.com.au
CREATED:20190224T200606Z
DESCRIPTION:2019 Autumn Section:Net-Set-Go\nRound:Rnd 14
LAST-MODIFIED:20190224T200606Z
LOCATION:Court: 3
SEQUENCE:0
STATUS:CONFIRMED
SUMMARY:Net--Rnd 14: Netta vs NetSetGo!
TRANSP:OPAQUE
END:VEVENT
BEGIN:VEVENT
DTSTART:20190601T111500
DTEND:20190601T115500
DTSTAMP:20190224T120606Z
UID:b9baece96d70acc60b2e95dba497f771@pvna.com.au
CREATED:20190224T200606Z
DESCRIPTION:2019 Autumn Section:Net-Set-Go\nRound:Rnd 15
LAST-MODIFIED:20190224T200606Z
LOCATION:Court: 3
SEQUENCE:0
STATUS:CONFIRMED
SUMMARY:Net--Rnd 15: NetSetGo! vs Netta
TRANSP:OPAQUE
END:VEVENT
BEGIN:VEVENT
DTSTART:20190615T111500
DTEND:20190615T115500
DTSTAMP:20190224T120606Z
UID:28254a2cb4ab8247cf03373f473a14a8@pvna.com.au
CREATED:20190224T200606Z
DESCRIPTION:2019 Autumn Section:Net-Set-Go\nRound:Rnd 16
LAST-MODIFIED:20190224T200606Z
LOCATION:Court: 3
SEQUENCE:0
STATUS:CONFIRMED
SUMMARY:Net--Rnd 16: Netta vs NetSetGo!
TRANSP:OPAQUE
END:VEVENT
BEGIN:VEVENT
DTSTART:20190622T111500
DTEND:20190622T115500
DTSTAMP:20190224T120606Z
UID:94dea7674a9eddd398171da16c73767d@pvna.com.au
CREATED:20190224T200606Z
DESCRIPTION:2019 Autumn Section:Net-Set-Go\nRound:Rnd 17
LAST-MODIFIED:20190224T200606Z
LOCATION:Court: 3
SEQUENCE:0
STATUS:CONFIRMED
SUMMARY:Net--Rnd 17: NetSetGo! vs Netta
TRANSP:OPAQUE
END:VEVENT
BEGIN:VEVENT
DTSTART:20190629T111500
DTEND:20190629T115500
DTSTAMP:20190224T120606Z
UID:1d3977d671dafc3e699678035611d0b3@pvna.com.au
CREATED:20190224T200606Z
DESCRIPTION:2019 Autumn Section:Net-Set-Go\nRound:Rnd 18
LAST-MODIFIED:20190224T200606Z
LOCATION:Court: 3
SEQUENCE:0
STATUS:CONFIRMED
SUMMARY:Net--Rnd 18: Netta vs NetSetGo!
TRANSP:OPAQUE
END:VEVENT
END:VCALENDAR
