BEGIN:VCALENDAR
PRODID:-//Google Inc//Google Calendar 70.9054//EN
VERSION:2.0
CALSCALE:GREGORIAN
METHOD:PUBLISH
X-WR-CALNAME:PV Comets Pheonix Snr
X-WR-TIMEZONE:Australia/Sydney
X-WR-CALDESC:PV Comets Parkville Calendars
BEGIN:VEVENT
DTSTART:20190202T110000
DTEND:20190202T114500
DTSTAMP:20190122T112629Z
UID:5d5de43e455ce6a9715f9f562af33c46@pvna.com.au
CREATED:20190122T192629Z
DESCRIPTION:2019 Autumn Section:Mixed\nRound:Rnd 1
LAST-MODIFIED:20190122T192629Z
LOCATION:Court: 99
SEQUENCE:0
STATUS:CONFIRMED
SUMMARY:Mixe-Rnd 1: Pheonix Snr vs BYE
TRANSP:OPAQUE
END:VEVENT
BEGIN:VEVENT
DTSTART:20190209T114500
DTEND:20190209T122500
DTSTAMP:20190122T112629Z
UID:eff4b32ed2c466dc1511665a27f12bb3@pvna.com.au
CREATED:20190122T192629Z
DESCRIPTION:2019 Autumn Section:Mixed\nRound:Rnd 2\n\nCurrent Ladder:\nTeam            P  W  L  D  Pts\nPheonix Snr     0  0  0  0  0 \nNB Wombat       0  0  0  0  0 \nNB Chicks       0  0  0  0  0 \n
LAST-MODIFIED:20190122T192629Z
LOCATION:Court: 1
SEQUENCE:0
STATUS:CONFIRMED
SUMMARY:Mixe-Rnd 2: Pheonix Snr vs NB Wombat
TRANSP:OPAQUE
END:VEVENT
BEGIN:VEVENT
DTSTART:20190216T114500
DTEND:20190216T122500
DTSTAMP:20190122T112629Z
UID:c15c078bd4dcf4a3b592f57254f8dafa@pvna.com.au
CREATED:20190122T192629Z
DESCRIPTION:2019 Autumn Section:Mixed\nRound:Rnd 3
LAST-MODIFIED:20190122T192629Z
LOCATION:Court: 1
SEQUENCE:0
STATUS:CONFIRMED
SUMMARY:Mixe-Rnd 3: Pheonix Snr vs NB Chicks
TRANSP:OPAQUE
END:VEVENT
BEGIN:VEVENT
DTSTART:20190223T113000
DTEND:20190223T122500
DTSTAMP:20190122T112629Z
UID:a10bc955d3759f9d8c598fa7de88fb81@pvna.com.au
CREATED:20190122T192629Z
DESCRIPTION:2019 Autumn Section:Mixed\nRound:Rnd 4
LAST-MODIFIED:20190122T192629Z
LOCATION:Court: 4
SEQUENCE:0
STATUS:CONFIRMED
SUMMARY:Mixe-Rnd 4: NB Chicks vs Pheonix Snr
TRANSP:OPAQUE
END:VEVENT
BEGIN:VEVENT
DTSTART:20190302T113000
DTEND:20190302T122500
DTSTAMP:20190122T112629Z
UID:4dde39a0e264cb35f6109d9736439906@pvna.com.au
CREATED:20190122T192629Z
DESCRIPTION:2019 Autumn Section:Mixed\nRound:Rnd 5
LAST-MODIFIED:20190122T192629Z
LOCATION:Court: 4
SEQUENCE:0
STATUS:CONFIRMED
SUMMARY:Mixe-Rnd 5: Pheonix Snr vs NB Wombat
TRANSP:OPAQUE
END:VEVENT
BEGIN:VEVENT
DTSTART:20190309T123000
DTEND:20190309T131000
DTSTAMP:20190122T112629Z
UID:ad6874e4e749a20b4eb83614bf621baa@pvna.com.au
CREATED:20190122T192629Z
DESCRIPTION:2019 Autumn Section:Mixed\nRound:Rnd 6
LAST-MODIFIED:20190122T192629Z
LOCATION:Court: 99
SEQUENCE:0
STATUS:CONFIRMED
SUMMARY:Mixe-Rnd 6: Pheonix Snr vs BYE
TRANSP:OPAQUE
END:VEVENT
BEGIN:VEVENT
DTSTART:20190323T113000
DTEND:20190323T131000
DTSTAMP:20190122T112629Z
UID:fba6dc5516b0cbb5d2d293d65ffe3e95@pvna.com.au
CREATED:20190122T192629Z
DESCRIPTION:2019 Autumn Section:Mixed\nRound:Rnd 8
LAST-MODIFIED:20190122T192629Z
LOCATION:Court: 4
SEQUENCE:0
STATUS:CONFIRMED
SUMMARY:Mixe-Rnd 8: NB Chicks vs Pheonix Snr
TRANSP:OPAQUE
END:VEVENT
BEGIN:VEVENT
DTSTART:20190330T113000
DTEND:20190330T131000
DTSTAMP:20190122T112629Z
UID:eb6ddee83569ac355bd55549654c59f8@pvna.com.au
CREATED:20190122T192629Z
DESCRIPTION:2019 Autumn Section:Mixed\nRound:Rnd 9
LAST-MODIFIED:20190122T192629Z
LOCATION:Court: 4
SEQUENCE:0
STATUS:CONFIRMED
SUMMARY:Mixe-Rnd 9: Pheonix Snr vs NB Wombat
TRANSP:OPAQUE
END:VEVENT
BEGIN:VEVENT
DTSTART:20190406T123000
DTEND:20190406T131000
DTSTAMP:20190122T112629Z
UID:8a85fa0b80dd0f1aab0b23f42b660c4f@pvna.com.au
CREATED:20190122T192629Z
DESCRIPTION:2019 Autumn Section:Mixed\nRound:Rnd 10
LAST-MODIFIED:20190122T192629Z
LOCATION:Court: 99
SEQUENCE:0
STATUS:CONFIRMED
SUMMARY:Mixe-Rnd 10: Pheonix Snr vs BYE
TRANSP:OPAQUE
END:VEVENT
BEGIN:VEVENT
DTSTART:20190420T113000
DTEND:20190420T131000
DTSTAMP:20190122T112629Z
UID:d7683613a7a9b0c113093b58b79b58a0@pvna.com.au
CREATED:20190122T192629Z
DESCRIPTION:2019 Autumn Section:Mixed\nRound:Rnd 12
LAST-MODIFIED:20190122T192629Z
LOCATION:Court: 4
SEQUENCE:0
STATUS:CONFIRMED
SUMMARY:Mixe-Rnd 12: NB Chicks vs Pheonix Snr
TRANSP:OPAQUE
END:VEVENT
BEGIN:VEVENT
DTSTART:20190427T113000
DTEND:20190427T131000
DTSTAMP:20190122T112629Z
UID:f5f7177deb8c3de08490a4b9b8ec87be@pvna.com.au
CREATED:20190122T192629Z
DESCRIPTION:2019 Autumn Section:Mixed\nRound:Rnd 13
LAST-MODIFIED:20190122T192629Z
LOCATION:Court: 4
SEQUENCE:0
STATUS:CONFIRMED
SUMMARY:Mixe-Rnd 13: Pheonix Snr vs NB Wombat
TRANSP:OPAQUE
END:VEVENT
BEGIN:VEVENT
DTSTART:20190504T123000
DTEND:20190504T131000
DTSTAMP:20190122T112629Z
UID:246ff6c2c78bd26f5f0c1c015b36e49b@pvna.com.au
CREATED:20190122T192629Z
DESCRIPTION:2019 Autumn Section:Mixed\nRound:Rnd 14
LAST-MODIFIED:20190122T192629Z
LOCATION:Court: 99
SEQUENCE:0
STATUS:CONFIRMED
SUMMARY:Mixe-Rnd 14: Pheonix Snr vs BYE
TRANSP:OPAQUE
END:VEVENT
BEGIN:VEVENT
DTSTART:20190518T113000
DTEND:20190518T131000
DTSTAMP:20190122T112629Z
UID:4f355300383537743923aa8ca32ccfca@pvna.com.au
CREATED:20190122T192629Z
DESCRIPTION:2019 Autumn Section:Mixed\nRound:Rnd 16
LAST-MODIFIED:20190122T192629Z
LOCATION:Court: 4
SEQUENCE:0
STATUS:CONFIRMED
SUMMARY:Mixe-Rnd 16: NB Chicks vs Pheonix Snr
TRANSP:OPAQUE
END:VEVENT
BEGIN:VEVENT
DTSTART:20190525T113000
DTEND:20190525T131000
DTSTAMP:20190122T112629Z
UID:24cc50c9352023466bfa22e08d441eea@pvna.com.au
CREATED:20190122T192629Z
DESCRIPTION:2019 Autumn Section:Mixed\nRound:Rnd 17
LAST-MODIFIED:20190122T192629Z
LOCATION:Court: 3
SEQUENCE:0
STATUS:CONFIRMED
SUMMARY:Mixe-Rnd 17: Pheonix Snr vs NB Wombat
TRANSP:OPAQUE
END:VEVENT
BEGIN:VEVENT
DTSTART:20190601T123000
DTEND:20190601T131000
DTSTAMP:20190122T112629Z
UID:b46c4eb0f4d8d3bcf75f85c79e8118c7@pvna.com.au
CREATED:20190122T192629Z
DESCRIPTION:2019 Autumn Section:Mixed\nRound:Rnd 18
LAST-MODIFIED:20190122T192629Z
LOCATION:Court: 99
SEQUENCE:0
STATUS:CONFIRMED
SUMMARY:Mixe-Rnd 18: Pheonix Snr vs BYE
TRANSP:OPAQUE
END:VEVENT
BEGIN:VEVENT
DTSTART:20190615T113000
DTEND:20190615T131000
DTSTAMP:20190122T112629Z
UID:d552741d6c268840792c19aafb7682ed@pvna.com.au
CREATED:20190122T192629Z
DESCRIPTION:2019 Autumn Section:Mixed\nRound:Rnd 20
LAST-MODIFIED:20190122T192629Z
LOCATION:Court: 4
SEQUENCE:0
STATUS:CONFIRMED
SUMMARY:Mixe-Rnd 20: NB Chicks vs Pheonix Snr
TRANSP:OPAQUE
END:VEVENT
END:VCALENDAR
