BEGIN:VCALENDAR
PRODID:-//Google Inc//Google Calendar 70.9054//EN
VERSION:2.0
CALSCALE:GREGORIAN
METHOD:PUBLISH
X-WR-CALNAME:PV Comets Phoenix
X-WR-TIMEZONE:Australia/Sydney
X-WR-CALDESC:PV Comets Parkville Calendars
BEGIN:VEVENT
DTSTART:20190202T084500
DTEND:20190202T092500
DTSTAMP:20190224T120606Z
UID:645c4a8a208e59084bd230a6b7aa58fd@pvna.com.au
CREATED:20190224T200606Z
DESCRIPTION:2019 Autumn Section:17&Under\nRound:Rnd 1
LAST-MODIFIED:20190224T200606Z
LOCATION:Court: 3
SEQUENCE:0
STATUS:CONFIRMED
SUMMARY:17&U-Rnd 1: Phoenix (17) vs Roxy (10)
TRANSP:OPAQUE
END:VEVENT
BEGIN:VEVENT
DTSTART:20190209T084500
DTEND:20190209T092500
DTSTAMP:20190224T120606Z
UID:6f9796c4c0fe41db5f20f998a219ba60@pvna.com.au
CREATED:20190224T200606Z
DESCRIPTION:2019 Autumn Section:17&Under\nRound:Rnd 2
LAST-MODIFIED:20190224T200606Z
LOCATION:Court: 3
SEQUENCE:0
STATUS:CONFIRMED
SUMMARY:17&U-Rnd 2: Awesome Angels 17s1 (8) vs Phoenix (49)
TRANSP:OPAQUE
END:VEVENT
BEGIN:VEVENT
DTSTART:20190216T084500
DTEND:20190216T092500
DTSTAMP:20190224T120606Z
UID:caadc5a5bb1b5f96e640b243a495d529@pvna.com.au
CREATED:20190224T200606Z
DESCRIPTION:2019 Autumn Section:17&Under\nRound:Rnd 3
LAST-MODIFIED:20190224T200606Z
LOCATION:Court: 3
SEQUENCE:0
STATUS:CONFIRMED
SUMMARY:17&U-Rnd 3: NB Kangas (4) vs Phoenix (23)
TRANSP:OPAQUE
END:VEVENT
BEGIN:VEVENT
DTSTART:20190223T084500
DTEND:20190223T092500
DTSTAMP:20190224T120606Z
UID:4d81e32e9837f7ac632dc4e3bc585c92@pvna.com.au
CREATED:20190224T200606Z
DESCRIPTION:2019 Autumn Section:17&Under\nRound:Rnd 4
LAST-MODIFIED:20190224T200606Z
LOCATION:Court: 3
SEQUENCE:0
STATUS:CONFIRMED
SUMMARY:17&U-Rnd 4: SS Sparks (13) vs Phoenix (21)
TRANSP:OPAQUE
END:VEVENT
BEGIN:VEVENT
DTSTART:20190302T084500
DTEND:20190302T092500
DTSTAMP:20190224T120606Z
UID:0f7b5b88c6aceff22af0282de7852734@pvna.com.au
CREATED:20190224T200606Z
DESCRIPTION:2019 Autumn Section:17&Under\nRound:Rnd 5\n\nCurrent Ladder:\nTeam            P  W  L  D  Pts\nPhoenix         4  4  0  0  16\nSS Magic        4  4  0  0  16\nSS Sparks       4  2  2  0  8 \nRoxy            4  1  3  0  4 \nNB Kangas       4  1  3  0  4 \nAwesome Angels 17s1 4  0  4  0  0 \n
LAST-MODIFIED:20190224T200606Z
LOCATION:Court: 3
SEQUENCE:0
STATUS:CONFIRMED
SUMMARY:17&U-Rnd 5: SS Magic vs Phoenix
TRANSP:OPAQUE
END:VEVENT
BEGIN:VEVENT
DTSTART:20190316T084500
DTEND:20190316T092500
DTSTAMP:20190224T120606Z
UID:bd5a08b8bfaf873041555bb7cc45367f@pvna.com.au
CREATED:20190224T200606Z
DESCRIPTION:2019 Autumn Section:17&Under\nRound:Rnd 6
LAST-MODIFIED:20190224T200606Z
LOCATION:Court: 3
SEQUENCE:0
STATUS:CONFIRMED
SUMMARY:17&U-Rnd 6: Phoenix vs Roxy
TRANSP:OPAQUE
END:VEVENT
BEGIN:VEVENT
DTSTART:20190323T084500
DTEND:20190323T092500
DTSTAMP:20190224T120606Z
UID:88fcd160e618d6192cbe24910293e650@pvna.com.au
CREATED:20190224T200606Z
DESCRIPTION:2019 Autumn Section:17&Under\nRound:Rnd 7
LAST-MODIFIED:20190224T200606Z
LOCATION:Court: 3
SEQUENCE:0
STATUS:CONFIRMED
SUMMARY:17&U-Rnd 7: Awesome Angels 17s1 vs Phoenix
TRANSP:OPAQUE
END:VEVENT
BEGIN:VEVENT
DTSTART:20190330T084500
DTEND:20190330T092500
DTSTAMP:20190224T120606Z
UID:61a2c523b5bdc397b9125ad0e1fdbc9d@pvna.com.au
CREATED:20190224T200606Z
DESCRIPTION:2019 Autumn Section:17&Under\nRound:Rnd 8
LAST-MODIFIED:20190224T200606Z
LOCATION:Court: 3
SEQUENCE:0
STATUS:CONFIRMED
SUMMARY:17&U-Rnd 8: NB Kangas vs Phoenix
TRANSP:OPAQUE
END:VEVENT
BEGIN:VEVENT
DTSTART:20190406T114500
DTEND:20190406T122500
DTSTAMP:20190224T120606Z
UID:53224dab71bcc7c7bf8c2ab9df1abb28@pvna.com.au
CREATED:20190224T200606Z
DESCRIPTION:2019 Autumn Section:17&Under\nRound:Rnd 9
LAST-MODIFIED:20190224T200606Z
LOCATION:Court: 2
SEQUENCE:0
STATUS:CONFIRMED
SUMMARY:17&U-Rnd 9: SS Sparks vs Phoenix
TRANSP:OPAQUE
END:VEVENT
BEGIN:VEVENT
DTSTART:20190427T114500
DTEND:20190427T122500
DTSTAMP:20190224T120606Z
UID:0c2df4d2cda6c1b93c538fe36c90a90f@pvna.com.au
CREATED:20190224T200606Z
DESCRIPTION:2019 Autumn Section:17&Under\nRound:Rnd 10
LAST-MODIFIED:20190224T200606Z
LOCATION:Court: 1
SEQUENCE:0
STATUS:CONFIRMED
SUMMARY:17&U-Rnd 10: SS Magic vs Phoenix
TRANSP:OPAQUE
END:VEVENT
BEGIN:VEVENT
DTSTART:20190504T084500
DTEND:20190504T092500
DTSTAMP:20190224T120606Z
UID:016990ca968ff2d49fbeb993b54ccd59@pvna.com.au
CREATED:20190224T200606Z
DESCRIPTION:2019 Autumn Section:17&Under\nRound:Rnd 11
LAST-MODIFIED:20190224T200606Z
LOCATION:Court: 1
SEQUENCE:0
STATUS:CONFIRMED
SUMMARY:17&U-Rnd 11: Phoenix vs Roxy
TRANSP:OPAQUE
END:VEVENT
BEGIN:VEVENT
DTSTART:20190511T110000
DTEND:20190511T114500
DTSTAMP:20190224T120606Z
UID:8f0a70378d30afe47fa067780b0a3191@pvna.com.au
CREATED:20190224T200606Z
DESCRIPTION:2019 Autumn Section:17&Under\nRound:Rnd 12
LAST-MODIFIED:20190224T200606Z
LOCATION:Court: 4
SEQUENCE:0
STATUS:CONFIRMED
SUMMARY:17&U-Rnd 12: Phoenix vs Awesome Angels 17s1
TRANSP:OPAQUE
END:VEVENT
BEGIN:VEVENT
DTSTART:20190518T114500
DTEND:20190518T122500
DTSTAMP:20190224T120606Z
UID:e0599ec1e8225c78380c4abf9c6b353c@pvna.com.au
CREATED:20190224T200606Z
DESCRIPTION:2019 Autumn Section:17&Under\nRound:Rnd 13
LAST-MODIFIED:20190224T200606Z
LOCATION:Court: 2
SEQUENCE:0
STATUS:CONFIRMED
SUMMARY:17&U-Rnd 13: NB Kangas vs Phoenix
TRANSP:OPAQUE
END:VEVENT
BEGIN:VEVENT
DTSTART:20190525T110000
DTEND:20190525T114500
DTSTAMP:20190224T120606Z
UID:f8fe46225e0af0801c26bb6781086d53@pvna.com.au
CREATED:20190224T200606Z
DESCRIPTION:2019 Autumn Section:17&Under\nRound:Rnd 14
LAST-MODIFIED:20190224T200606Z
LOCATION:Court: 4
SEQUENCE:0
STATUS:CONFIRMED
SUMMARY:17&U-Rnd 14: SS Sparks vs Phoenix
TRANSP:OPAQUE
END:VEVENT
BEGIN:VEVENT
DTSTART:20190601T110000
DTEND:20190601T114500
DTSTAMP:20190224T120606Z
UID:28429fcd8e741c69c3f37bb0e1259a46@pvna.com.au
CREATED:20190224T200606Z
DESCRIPTION:2019 Autumn Section:17&Under\nRound:Rnd 15
LAST-MODIFIED:20190224T200606Z
LOCATION:Court: 2
SEQUENCE:0
STATUS:CONFIRMED
SUMMARY:17&U-Rnd 15: Phoenix vs SS Magic
TRANSP:OPAQUE
END:VEVENT
END:VCALENDAR
