BEGIN:VCALENDAR
PRODID:-//Google Inc//Google Calendar 70.9054//EN
VERSION:2.0
CALSCALE:GREGORIAN
METHOD:PUBLISH
X-WR-CALNAME:PV Comets Roxy Jnr
X-WR-TIMEZONE:Australia/Sydney
X-WR-CALDESC:PV Comets Parkville Calendars
BEGIN:VEVENT
DTSTART:20190202T093000
DTEND:20190202T101000
DTSTAMP:20190224T120607Z
UID:2b132ebbcda45749c07ee9736a13c426@pvna.com.au
CREATED:20190224T200607Z
DESCRIPTION:2019 Autumn Section:13&Under\nRound:Rnd 1
LAST-MODIFIED:20190224T200607Z
LOCATION:Court: 1
SEQUENCE:0
STATUS:CONFIRMED
SUMMARY:13&U-Rnd 1: Wildcats 13s (27) vs Roxy Jnr (17)
TRANSP:OPAQUE
END:VEVENT
BEGIN:VEVENT
DTSTART:20190209T084500
DTEND:20190209T092500
DTSTAMP:20190224T120607Z
UID:4a373f02723f4909c3aaf7d5a63ed813@pvna.com.au
CREATED:20190224T200607Z
DESCRIPTION:2019 Autumn Section:13&Under\nRound:Rnd 2
LAST-MODIFIED:20190224T200607Z
LOCATION:Court: 2
SEQUENCE:0
STATUS:CONFIRMED
SUMMARY:13&U-Rnd 2: Roxy Jnr (15) vs SS Diamonds (13)
TRANSP:OPAQUE
END:VEVENT
BEGIN:VEVENT
DTSTART:20190216T093000
DTEND:20190216T101000
DTSTAMP:20190224T120607Z
UID:895e3fd0bb9fe8d89f68b52f309fab7d@pvna.com.au
CREATED:20190224T200607Z
DESCRIPTION:2019 Autumn Section:13&Under\nRound:Rnd 3
LAST-MODIFIED:20190224T200607Z
LOCATION:Court: 3
SEQUENCE:0
STATUS:CONFIRMED
SUMMARY:13&U-Rnd 3: Roxy Jnr (55) vs Awesome Angels 13s1 (2)
TRANSP:OPAQUE
END:VEVENT
BEGIN:VEVENT
DTSTART:20190223T084500
DTEND:20190223T092500
DTSTAMP:20190224T120607Z
UID:02969ecfb7fa15712e64f4a334157032@pvna.com.au
CREATED:20190224T200607Z
DESCRIPTION:2019 Autumn Section:13&Under\nRound:Rnd 4
LAST-MODIFIED:20190224T200607Z
LOCATION:Court: 2
SEQUENCE:0
STATUS:CONFIRMED
SUMMARY:13&U-Rnd 4: Roxy Jnr (24) vs Roxy Power (10)
TRANSP:OPAQUE
END:VEVENT
BEGIN:VEVENT
DTSTART:20190302T084500
DTEND:20190302T092500
DTSTAMP:20190224T120607Z
UID:c979f06306685f8c49f495faece85c0e@pvna.com.au
CREATED:20190224T200607Z
DESCRIPTION:2019 Autumn Section:13&Under\nRound:Rnd 5\n\nCurrent Ladder:\nTeam            P  W  L  D  Pts\nWildcats 13s    4  4  0  0  16\nAwesome Angels 13s3 4  4  0  0  16\nRoxy Jnr        4  3  1  0  12\nNB Dragons      4  2  1  1  10\nNB Cubs         4  2  1  1  10\nSS Diamonds     4  2  2  0  8 \nAwesome Angels 13s2 4  2  2  0  8 \nNeon Nightmares 13s 4  1  2  1  6 \nRoxy Power      4  1  3  0  4 \nAwesome Angels 13s4 4  1  3  0  4 \nAwesome Angels 13s1 4  0  3  1  2 \nTBA             0  0  0  0  0 \n
LAST-MODIFIED:20190224T200607Z
LOCATION:Court: 4
SEQUENCE:0
STATUS:CONFIRMED
SUMMARY:13&U-Rnd 5: Roxy Jnr vs Neon Nightmares 13s
TRANSP:OPAQUE
END:VEVENT
BEGIN:VEVENT
DTSTART:20190316T093000
DTEND:20190316T101000
DTSTAMP:20190224T120607Z
UID:f20dab880e5d04790d5fee72883fe768@pvna.com.au
CREATED:20190224T200607Z
DESCRIPTION:2019 Autumn Section:13&Under\nRound:Rnd 6
LAST-MODIFIED:20190224T200607Z
LOCATION:Court: 2
SEQUENCE:0
STATUS:CONFIRMED
SUMMARY:13&U-Rnd 6: Roxy Jnr vs Awesome Angels 13s3
TRANSP:OPAQUE
END:VEVENT
BEGIN:VEVENT
DTSTART:20190323T093000
DTEND:20190323T101000
DTSTAMP:20190224T120607Z
UID:9e13e99ec6d1114f15f6263190ef9148@pvna.com.au
CREATED:20190224T200607Z
DESCRIPTION:2019 Autumn Section:13&Under\nRound:Rnd 7
LAST-MODIFIED:20190224T200607Z
LOCATION:Court: 2
SEQUENCE:0
STATUS:CONFIRMED
SUMMARY:13&U-Rnd 7: Roxy Jnr vs NB Dragons 
TRANSP:OPAQUE
END:VEVENT
BEGIN:VEVENT
DTSTART:20190330T101500
DTEND:20190330T105500
DTSTAMP:20190224T120607Z
UID:d5cdbea092bd8e43124d33899ecd191e@pvna.com.au
CREATED:20190224T200607Z
DESCRIPTION:2019 Autumn Section:13&Under\nRound:Rnd 8
LAST-MODIFIED:20190224T200607Z
LOCATION:Court: 2
SEQUENCE:0
STATUS:CONFIRMED
SUMMARY:13&U-Rnd 8: Roxy Jnr vs NB Cubs
TRANSP:OPAQUE
END:VEVENT
BEGIN:VEVENT
DTSTART:20190406T093000
DTEND:20190406T101000
DTSTAMP:20190224T120607Z
UID:33d4798c23ffc755206e4c6e5c353adf@pvna.com.au
CREATED:20190224T200607Z
DESCRIPTION:2019 Autumn Section:13&Under\nRound:Rnd 9
LAST-MODIFIED:20190224T200607Z
LOCATION:Court: 2
SEQUENCE:0
STATUS:CONFIRMED
SUMMARY:13&U-Rnd 9: Roxy Jnr vs Awesome Angels 13s4
TRANSP:OPAQUE
END:VEVENT
BEGIN:VEVENT
DTSTART:20190427T093000
DTEND:20190427T101000
DTSTAMP:20190224T120607Z
UID:5859a315be86339a25b3b860f1059d80@pvna.com.au
CREATED:20190224T200607Z
DESCRIPTION:2019 Autumn Section:13&Under\nRound:Rnd 10
LAST-MODIFIED:20190224T200607Z
LOCATION:Court: 99
SEQUENCE:0
STATUS:CONFIRMED
SUMMARY:13&U-Rnd 10: Roxy Jnr vs BYE
TRANSP:OPAQUE
END:VEVENT
BEGIN:VEVENT
DTSTART:20190504T093000
DTEND:20190504T101000
DTSTAMP:20190224T120607Z
UID:04c03e377baed1f860f40cf07441986d@pvna.com.au
CREATED:20190224T200607Z
DESCRIPTION:2019 Autumn Section:13&Under\nRound:Rnd 11
LAST-MODIFIED:20190224T200607Z
LOCATION:Court: 1
SEQUENCE:0
STATUS:CONFIRMED
SUMMARY:13&U-Rnd 11: Roxy Jnr vs Awesome Angels 13s2
TRANSP:OPAQUE
END:VEVENT
END:VCALENDAR
