BEGIN:VCALENDAR
PRODID:-//Google Inc//Google Calendar 70.9054//EN
VERSION:2.0
CALSCALE:GREGORIAN
METHOD:PUBLISH
X-WR-CALNAME:PV Comets SS Crystals
X-WR-TIMEZONE:Australia/Sydney
X-WR-CALDESC:PV Comets Parkville Calendars
BEGIN:VEVENT
DTSTART:20190202T114500
DTEND:20190202T122500
DTSTAMP:20190224T120607Z
UID:932e04c1d6ebb465e13892aab2d0dfc4@pvna.com.au
CREATED:20190224T200607Z
DESCRIPTION:2019 Autumn Section:8-10s\nRound:Rnd 1
LAST-MODIFIED:20190224T200607Z
LOCATION:Court: 1
SEQUENCE:0
STATUS:CONFIRMED
SUMMARY:8-10-Rnd 1: SS Crystals (14) vs Awesome Angels 8-10s1 (1)
TRANSP:OPAQUE
END:VEVENT
BEGIN:VEVENT
DTSTART:20190209T114500
DTEND:20190209T122500
DTSTAMP:20190224T120607Z
UID:1b9b64df6c09c5f4c0141c6abf23d4c5@pvna.com.au
CREATED:20190224T200607Z
DESCRIPTION:2019 Autumn Section:8-10s\nRound:Rnd 2
LAST-MODIFIED:20190224T200607Z
LOCATION:Court: 2
SEQUENCE:0
STATUS:CONFIRMED
SUMMARY:8-10-Rnd 2: The Flying Eagles2 (14) vs SS Crystals (4)
TRANSP:OPAQUE
END:VEVENT
BEGIN:VEVENT
DTSTART:20190216T084500
DTEND:20190216T092500
DTSTAMP:20190224T120607Z
UID:a0b30af71f31f0e34c5afd90b46e5a33@pvna.com.au
CREATED:20190224T200607Z
DESCRIPTION:2019 Autumn Section:8-10s\nRound:Rnd 3
LAST-MODIFIED:20190224T200607Z
LOCATION:Court: 4
SEQUENCE:0
STATUS:CONFIRMED
SUMMARY:8-10-Rnd 3: NB Tigers (4) vs SS Crystals (5)
TRANSP:OPAQUE
END:VEVENT
BEGIN:VEVENT
DTSTART:20190223T110000
DTEND:20190223T114500
DTSTAMP:20190224T120607Z
UID:7a01847a6115fc3c2220f710f25b772f@pvna.com.au
CREATED:20190224T200607Z
DESCRIPTION:2019 Autumn Section:8-10s\nRound:Rnd 4
LAST-MODIFIED:20190224T200607Z
LOCATION:Court: 4
SEQUENCE:0
STATUS:CONFIRMED
SUMMARY:8-10-Rnd 4: SS Crystals (23) vs Awesome Angels 8-10s1 (6)
TRANSP:OPAQUE
END:VEVENT
BEGIN:VEVENT
DTSTART:20190302T101500
DTEND:20190302T105500
DTSTAMP:20190224T120607Z
UID:1d852582d9c0e07e405c522d83672f0a@pvna.com.au
CREATED:20190224T200607Z
DESCRIPTION:2019 Autumn Section:8-10s\nRound:Rnd 5\n\nCurrent Ladder:\nTeam            P  W  L  D  Pts\nThe Flying Eagles2 3  3  0  0  12\nSS Crystals     4  3  1  0  12\nNB Tigers       4  1  3  0  4 \nAwesome Angels 8-10s1 4  0  4  0  0 \n
LAST-MODIFIED:20190224T200607Z
LOCATION:Court: 1
SEQUENCE:0
STATUS:CONFIRMED
SUMMARY:8-10-Rnd 5: SS Crystals vs 11s
TRANSP:OPAQUE
END:VEVENT
BEGIN:VEVENT
DTSTART:20190316T093000
DTEND:20190316T101000
DTSTAMP:20190224T120607Z
UID:2fd5e5332a0c85244fd41e7386f9430e@pvna.com.au
CREATED:20190224T200607Z
DESCRIPTION:2019 Autumn Section:8-10s\nRound:Rnd 6
LAST-MODIFIED:20190224T200607Z
LOCATION:Court: 4
SEQUENCE:0
STATUS:CONFIRMED
SUMMARY:8-10-Rnd 6: NB Tigers vs SS Crystals
TRANSP:OPAQUE
END:VEVENT
BEGIN:VEVENT
DTSTART:20190323T114500
DTEND:20190323T122500
DTSTAMP:20190224T120607Z
UID:88568350fddc76b52cb179921fdcaae8@pvna.com.au
CREATED:20190224T200607Z
DESCRIPTION:2019 Autumn Section:8-10s\nRound:Rnd 7
LAST-MODIFIED:20190224T200607Z
LOCATION:Court: 1
SEQUENCE:0
STATUS:CONFIRMED
SUMMARY:8-10-Rnd 7: SS Crystals vs Awesome Angels 8-10s1
TRANSP:OPAQUE
END:VEVENT
BEGIN:VEVENT
DTSTART:20190330T114500
DTEND:20190330T122500
DTSTAMP:20190224T120607Z
UID:02ff218e195764a598df2431e84d4a8b@pvna.com.au
CREATED:20190224T200607Z
DESCRIPTION:2019 Autumn Section:8-10s\nRound:Rnd 8
LAST-MODIFIED:20190224T200607Z
LOCATION:Court: 2
SEQUENCE:0
STATUS:CONFIRMED
SUMMARY:8-10-Rnd 8: SS Crystals vs 11s
TRANSP:OPAQUE
END:VEVENT
BEGIN:VEVENT
DTSTART:20190406T084500
DTEND:20190406T092500
DTSTAMP:20190224T120607Z
UID:b94f896139b448636300cb424d543c05@pvna.com.au
CREATED:20190224T200607Z
DESCRIPTION:2019 Autumn Section:8-10s\nRound:Rnd 9
LAST-MODIFIED:20190224T200607Z
LOCATION:Court: 1
SEQUENCE:0
STATUS:CONFIRMED
SUMMARY:8-10-Rnd 9: SS Crystals vs NB Tigers
TRANSP:OPAQUE
END:VEVENT
BEGIN:VEVENT
DTSTART:20190427T084500
DTEND:20190427T092500
DTSTAMP:20190224T120607Z
UID:0382c3805ef3f04d89201c6f8a722e03@pvna.com.au
CREATED:20190224T200607Z
DESCRIPTION:2019 Autumn Section:8-10s\nRound:Rnd 10
LAST-MODIFIED:20190224T200607Z
LOCATION:Court: 1
SEQUENCE:0
STATUS:CONFIRMED
SUMMARY:8-10-Rnd 10: Awesome Angels 8-10s1 vs SS Crystals
TRANSP:OPAQUE
END:VEVENT
BEGIN:VEVENT
DTSTART:20190504T101500
DTEND:20190504T105500
DTSTAMP:20190224T120607Z
UID:4121500b50bd61f40d68a5c05c3761a5@pvna.com.au
CREATED:20190224T200607Z
DESCRIPTION:2019 Autumn Section:8-10s\nRound:Rnd 11
LAST-MODIFIED:20190224T200607Z
LOCATION:Court: 1
SEQUENCE:0
STATUS:CONFIRMED
SUMMARY:8-10-Rnd 11: SS Crystals vs 11s
TRANSP:OPAQUE
END:VEVENT
BEGIN:VEVENT
DTSTART:20190511T084500
DTEND:20190511T092500
DTSTAMP:20190224T120607Z
UID:f62760f130eb3e5e9ce85975ce190cf2@pvna.com.au
CREATED:20190224T200607Z
DESCRIPTION:2019 Autumn Section:8-10s\nRound:Rnd 12
LAST-MODIFIED:20190224T200607Z
LOCATION:Court: 1
SEQUENCE:0
STATUS:CONFIRMED
SUMMARY:8-10-Rnd 12: SS Crystals vs NB Tigers
TRANSP:OPAQUE
END:VEVENT
BEGIN:VEVENT
DTSTART:20190518T084500
DTEND:20190518T092500
DTSTAMP:20190224T120607Z
UID:299ae67aec52666c2f94d265d3fcece8@pvna.com.au
CREATED:20190224T200607Z
DESCRIPTION:2019 Autumn Section:8-10s\nRound:Rnd 13
LAST-MODIFIED:20190224T200607Z
LOCATION:Court: 1
SEQUENCE:0
STATUS:CONFIRMED
SUMMARY:8-10-Rnd 13: SS Crystals vs Awesome Angels 8-10s1
TRANSP:OPAQUE
END:VEVENT
BEGIN:VEVENT
DTSTART:20190525T084500
DTEND:20190525T092500
DTSTAMP:20190224T120607Z
UID:19f907c2fe8104d6d4d0bce6466e528d@pvna.com.au
CREATED:20190224T200607Z
DESCRIPTION:2019 Autumn Section:8-10s\nRound:Rnd 14
LAST-MODIFIED:20190224T200607Z
LOCATION:Court: 2
SEQUENCE:0
STATUS:CONFIRMED
SUMMARY:8-10-Rnd 14: SS Crystals vs 11s
TRANSP:OPAQUE
END:VEVENT
BEGIN:VEVENT
DTSTART:20190601T113000
DTEND:20190601T092500
DTSTAMP:20190224T120607Z
UID:e9f1e721f262d7135ad9dc88cb586242@pvna.com.au
CREATED:20190224T200607Z
DESCRIPTION:2019 Autumn Section:8-10s\nRound:Rnd 15
LAST-MODIFIED:20190224T200607Z
LOCATION:Court: 2
SEQUENCE:0
STATUS:CONFIRMED
SUMMARY:8-10-Rnd 15: NB Tigers vs SS Crystals
TRANSP:OPAQUE
END:VEVENT
BEGIN:VEVENT
DTSTART:20190615T084500
DTEND:20190615T092500
DTSTAMP:20190224T120607Z
UID:39991e6960f328536b34007cd23e69a3@pvna.com.au
CREATED:20190224T200607Z
DESCRIPTION:2019 Autumn Section:8-10s\nRound:Rnd 16
LAST-MODIFIED:20190224T200607Z
LOCATION:Court: 1
SEQUENCE:0
STATUS:CONFIRMED
SUMMARY:8-10-Rnd 16: SS Crystals vs Awesome Angels 8-10s1
TRANSP:OPAQUE
END:VEVENT
BEGIN:VEVENT
DTSTART:20190622T084500
DTEND:20190622T092500
DTSTAMP:20190224T120607Z
UID:fe28384d3565463b8074fb4c42006fe4@pvna.com.au
CREATED:20190224T200607Z
DESCRIPTION:2019 Autumn Section:8-10s\nRound:Rnd 17
LAST-MODIFIED:20190224T200607Z
LOCATION:Court: 2
SEQUENCE:0
STATUS:CONFIRMED
SUMMARY:8-10-Rnd 17: SS Crystals vs 11s
TRANSP:OPAQUE
END:VEVENT
BEGIN:VEVENT
DTSTART:20190629T084500
DTEND:20190629T092500
DTSTAMP:20190224T120607Z
UID:9c2855a7c03dd51593c09ac132f29505@pvna.com.au
CREATED:20190224T200607Z
DESCRIPTION:2019 Autumn Section:8-10s\nRound:Rnd 18
LAST-MODIFIED:20190224T200607Z
LOCATION:Court: 1
SEQUENCE:0
STATUS:CONFIRMED
SUMMARY:8-10-Rnd 18: NB Tigers vs SS Crystals
TRANSP:OPAQUE
END:VEVENT
END:VCALENDAR
