BEGIN:VCALENDAR
PRODID:-//Google Inc//Google Calendar 70.9054//EN
VERSION:2.0
CALSCALE:GREGORIAN
METHOD:PUBLISH
X-WR-CALNAME:PV Comets SS Diamonds
X-WR-TIMEZONE:Australia/Sydney
X-WR-CALDESC:PV Comets Parkville Calendars
BEGIN:VEVENT
DTSTART:20190202T114500
DTEND:20190202T122500
DTSTAMP:20190224T120607Z
UID:1c36d06768fb9aeb7cb791ddca9864a9@pvna.com.au
CREATED:20190224T200607Z
DESCRIPTION:2019 Autumn Section:13&Under\nRound:Rnd 1
LAST-MODIFIED:20190224T200607Z
LOCATION:Court: 2
SEQUENCE:0
STATUS:CONFIRMED
SUMMARY:13&U-Rnd 1: SS Diamonds (15) vs Awesome Angels 13s1 (3)
TRANSP:OPAQUE
END:VEVENT
BEGIN:VEVENT
DTSTART:20190209T084500
DTEND:20190209T092500
DTSTAMP:20190224T120607Z
UID:fbe7ecbec3152b387a7e927b14edbf74@pvna.com.au
CREATED:20190224T200607Z
DESCRIPTION:2019 Autumn Section:13&Under\nRound:Rnd 2
LAST-MODIFIED:20190224T200607Z
LOCATION:Court: 2
SEQUENCE:0
STATUS:CONFIRMED
SUMMARY:13&U-Rnd 2: Roxy Jnr (15) vs SS Diamonds (13)
TRANSP:OPAQUE
END:VEVENT
BEGIN:VEVENT
DTSTART:20190216T084500
DTEND:20190216T092500
DTSTAMP:20190224T120607Z
UID:5d27ae9a5a0aebeff1f8fca34762038a@pvna.com.au
CREATED:20190224T200607Z
DESCRIPTION:2019 Autumn Section:13&Under\nRound:Rnd 3
LAST-MODIFIED:20190224T200607Z
LOCATION:Court: 1
SEQUENCE:0
STATUS:CONFIRMED
SUMMARY:13&U-Rnd 3: Neon Nightmares 13s (7) vs SS Diamonds (21)
TRANSP:OPAQUE
END:VEVENT
BEGIN:VEVENT
DTSTART:20190223T093000
DTEND:20190223T101000
DTSTAMP:20190224T120607Z
UID:3190e6bd7ea8fb88c42fa0423e26e366@pvna.com.au
CREATED:20190224T200607Z
DESCRIPTION:2019 Autumn Section:13&Under\nRound:Rnd 4
LAST-MODIFIED:20190224T200607Z
LOCATION:Court: 1
SEQUENCE:0
STATUS:CONFIRMED
SUMMARY:13&U-Rnd 4: Wildcats 13s (29) vs SS Diamonds (3)
TRANSP:OPAQUE
END:VEVENT
BEGIN:VEVENT
DTSTART:20190302T093000
DTEND:20190302T101000
DTSTAMP:20190224T120607Z
UID:836fdc3b86857666404f060de536fc7f@pvna.com.au
CREATED:20190224T200607Z
DESCRIPTION:2019 Autumn Section:13&Under\nRound:Rnd 5\n\nCurrent Ladder:\nTeam            P  W  L  D  Pts\nWildcats 13s    4  4  0  0  16\nAwesome Angels 13s3 4  4  0  0  16\nRoxy Jnr        4  3  1  0  12\nNB Dragons      4  2  1  1  10\nNB Cubs         4  2  1  1  10\nSS Diamonds     4  2  2  0  8 \nAwesome Angels 13s2 4  2  2  0  8 \nNeon Nightmares 13s 4  1  2  1  6 \nRoxy Power      4  1  3  0  4 \nAwesome Angels 13s4 4  1  3  0  4 \nAwesome Angels 13s1 4  0  3  1  2 \nTBA             0  0  0  0  0 \n
LAST-MODIFIED:20190224T200607Z
LOCATION:Court: 3
SEQUENCE:0
STATUS:CONFIRMED
SUMMARY:13&U-Rnd 5: Roxy Power vs SS Diamonds
TRANSP:OPAQUE
END:VEVENT
BEGIN:VEVENT
DTSTART:20190316T093000
DTEND:20190316T101000
DTSTAMP:20190224T120607Z
UID:2af5482bc94add1e30793d8935eee124@pvna.com.au
CREATED:20190224T200607Z
DESCRIPTION:2019 Autumn Section:13&Under\nRound:Rnd 6
LAST-MODIFIED:20190224T200607Z
LOCATION:Court: 1
SEQUENCE:0
STATUS:CONFIRMED
SUMMARY:13&U-Rnd 6: SS Diamonds vs Awesome Angels 13s4
TRANSP:OPAQUE
END:VEVENT
BEGIN:VEVENT
DTSTART:20190323T093000
DTEND:20190323T101000
DTSTAMP:20190224T120607Z
UID:283ea453d9dad5d17bcbcb53ead35655@pvna.com.au
CREATED:20190224T200607Z
DESCRIPTION:2019 Autumn Section:13&Under\nRound:Rnd 7
LAST-MODIFIED:20190224T200607Z
LOCATION:Court: 99
SEQUENCE:0
STATUS:CONFIRMED
SUMMARY:13&U-Rnd 7: SS Diamonds vs BYE
TRANSP:OPAQUE
END:VEVENT
BEGIN:VEVENT
DTSTART:20190330T084500
DTEND:20190330T092500
DTSTAMP:20190224T120607Z
UID:6d93b12bdd4b9ec8728bbb7f177c0e30@pvna.com.au
CREATED:20190224T200607Z
DESCRIPTION:2019 Autumn Section:13&Under\nRound:Rnd 8
LAST-MODIFIED:20190224T200607Z
LOCATION:Court: 4
SEQUENCE:0
STATUS:CONFIRMED
SUMMARY:13&U-Rnd 8: SS Diamonds vs Awesome Angels 13s2
TRANSP:OPAQUE
END:VEVENT
BEGIN:VEVENT
DTSTART:20190406T093000
DTEND:20190406T101000
DTSTAMP:20190224T120607Z
UID:0677474c8149fa6aabef441bf42ca196@pvna.com.au
CREATED:20190224T200607Z
DESCRIPTION:2019 Autumn Section:13&Under\nRound:Rnd 9
LAST-MODIFIED:20190224T200607Z
LOCATION:Court: 4
SEQUENCE:0
STATUS:CONFIRMED
SUMMARY:13&U-Rnd 9: SS Diamonds vs Awesome Angels 13s3
TRANSP:OPAQUE
END:VEVENT
BEGIN:VEVENT
DTSTART:20190427T093000
DTEND:20190427T101000
DTSTAMP:20190224T120607Z
UID:0a15b4e88aef1091a9dcb5687d920861@pvna.com.au
CREATED:20190224T200607Z
DESCRIPTION:2019 Autumn Section:13&Under\nRound:Rnd 10
LAST-MODIFIED:20190224T200607Z
LOCATION:Court: 4
SEQUENCE:0
STATUS:CONFIRMED
SUMMARY:13&U-Rnd 10: SS Diamonds vs NB Dragons 
TRANSP:OPAQUE
END:VEVENT
BEGIN:VEVENT
DTSTART:20190504T084500
DTEND:20190504T092500
DTSTAMP:20190224T120607Z
UID:ee07a63210f8aac6018992e9c73a4bf3@pvna.com.au
CREATED:20190224T200607Z
DESCRIPTION:2019 Autumn Section:13&Under\nRound:Rnd 11
LAST-MODIFIED:20190224T200607Z
LOCATION:Court: 2
SEQUENCE:0
STATUS:CONFIRMED
SUMMARY:13&U-Rnd 11: SS Diamonds vs NB Cubs
TRANSP:OPAQUE
END:VEVENT
END:VCALENDAR
