BEGIN:VCALENDAR
PRODID:-//Google Inc//Google Calendar 70.9054//EN
VERSION:2.0
CALSCALE:GREGORIAN
METHOD:PUBLISH
X-WR-CALNAME:PV Comets SS Emeralds
X-WR-TIMEZONE:Australia/Sydney
X-WR-CALDESC:PV Comets Parkville Calendars
BEGIN:VEVENT
DTSTART:20190202T101500
DTEND:20190202T105500
DTSTAMP:20190224T120607Z
UID:e948372aef0fc48367c260e4a6f00c94@pvna.com.au
CREATED:20190224T200607Z
DESCRIPTION:2019 Autumn Section:11&Under\nRound:Rnd 1
LAST-MODIFIED:20190224T200607Z
LOCATION:Court: 4
SEQUENCE:0
STATUS:CONFIRMED
SUMMARY:11&U-Rnd 1: Falcons (21) vs SS Emeralds (7)
TRANSP:OPAQUE
END:VEVENT
BEGIN:VEVENT
DTSTART:20190209T110000
DTEND:20190209T114500
DTSTAMP:20190224T120607Z
UID:7c849b5dbbf108db7945a3359d39f129@pvna.com.au
CREATED:20190224T200607Z
DESCRIPTION:2019 Autumn Section:11&Under\nRound:Rnd 2
LAST-MODIFIED:20190224T200607Z
LOCATION:Court: 1
SEQUENCE:0
STATUS:CONFIRMED
SUMMARY:11&U-Rnd 2: SS Emeralds (13) vs Awesome Angels 11s1 (6)
TRANSP:OPAQUE
END:VEVENT
BEGIN:VEVENT
DTSTART:20190216T110000
DTEND:20190216T114500
DTSTAMP:20190224T120607Z
UID:7d68d7d7042014f9396171406e41e055@pvna.com.au
CREATED:20190224T200607Z
DESCRIPTION:2019 Autumn Section:11&Under\nRound:Rnd 3
LAST-MODIFIED:20190224T200607Z
LOCATION:Court: 4
SEQUENCE:0
STATUS:CONFIRMED
SUMMARY:11&U-Rnd 3: The Flying Eagles1 (7) vs SS Emeralds (2)
TRANSP:OPAQUE
END:VEVENT
BEGIN:VEVENT
DTSTART:20190223T084500
DTEND:20190223T092500
DTSTAMP:20190224T120607Z
UID:f1c31b51ffe36de735d412cc724c9da6@pvna.com.au
CREATED:20190224T200607Z
DESCRIPTION:2019 Autumn Section:11&Under\nRound:Rnd 4
LAST-MODIFIED:20190224T200607Z
LOCATION:Court: 99
SEQUENCE:0
STATUS:CONFIRMED
SUMMARY:11&U-Rnd 4: SS Emeralds vs BYE
TRANSP:OPAQUE
END:VEVENT
BEGIN:VEVENT
DTSTART:20190302T093000
DTEND:20190302T101000
DTSTAMP:20190224T120607Z
UID:bc66d1168d128c8af16072e7cd39985b@pvna.com.au
CREATED:20190224T200607Z
DESCRIPTION:2019 Autumn Section:11&Under\nRound:Rnd 5\n\nCurrent Ladder:\nTeam            P  W  L  D  Pts\nFalcons         4  4  0  0  16\nThe Flying Eagles1 4  3  1  0  12\nAwesome Angels 11s1 4  2  2  0  8 \nSS Emeralds     4  2  2  0  8 \nThe Flying Eagles2 1  1  0  0  4 \nAwesome Angels 11s2 4  1  3  0  4 \n
LAST-MODIFIED:20190224T200607Z
LOCATION:Court: 4
SEQUENCE:0
STATUS:CONFIRMED
SUMMARY:11&U-Rnd 5: SS Emeralds vs The Flying Eagles2
TRANSP:OPAQUE
END:VEVENT
BEGIN:VEVENT
DTSTART:20190316T114500
DTEND:20190316T122500
DTSTAMP:20190224T120607Z
UID:dc085e5d10fe7e6702f4e042452a56ab@pvna.com.au
CREATED:20190224T200607Z
DESCRIPTION:2019 Autumn Section:11&Under\nRound:Rnd 6
LAST-MODIFIED:20190224T200607Z
LOCATION:Court: 1
SEQUENCE:0
STATUS:CONFIRMED
SUMMARY:11&U-Rnd 6: Awesome Angels 11s1 vs SS Emeralds
TRANSP:OPAQUE
END:VEVENT
BEGIN:VEVENT
DTSTART:20190323T110000
DTEND:20190323T114500
DTSTAMP:20190224T120607Z
UID:58feb3ffb4b3b3a6b23b61b6b818a0ba@pvna.com.au
CREATED:20190224T200607Z
DESCRIPTION:2019 Autumn Section:11&Under\nRound:Rnd 7
LAST-MODIFIED:20190224T200607Z
LOCATION:Court: 4
SEQUENCE:0
STATUS:CONFIRMED
SUMMARY:11&U-Rnd 7: The Flying Eagles1 vs SS Emeralds
TRANSP:OPAQUE
END:VEVENT
BEGIN:VEVENT
DTSTART:20190330T084500
DTEND:20190330T092500
DTSTAMP:20190224T120607Z
UID:8b692a141204da2480fb9903e06a4c44@pvna.com.au
CREATED:20190224T200607Z
DESCRIPTION:2019 Autumn Section:11&Under\nRound:Rnd 8
LAST-MODIFIED:20190224T200607Z
LOCATION:Court: 4
SEQUENCE:0
STATUS:CONFIRMED
SUMMARY:11&U-Rnd 8: 8-10s vs SS Emeralds
TRANSP:OPAQUE
END:VEVENT
BEGIN:VEVENT
DTSTART:20190406T084500
DTEND:20190406T092500
DTSTAMP:20190224T120607Z
UID:41e08ba37965da7edc87896ab1942706@pvna.com.au
CREATED:20190224T200607Z
DESCRIPTION:2019 Autumn Section:11&Under\nRound:Rnd 9
LAST-MODIFIED:20190224T200607Z
LOCATION:Court: 3
SEQUENCE:0
STATUS:CONFIRMED
SUMMARY:11&U-Rnd 9: The Flying Eagles2 vs SS Emeralds
TRANSP:OPAQUE
END:VEVENT
BEGIN:VEVENT
DTSTART:20190427T084500
DTEND:20190427T092500
DTSTAMP:20190224T120607Z
UID:5a6ed52a2208b93d6f297c7b9eacfaae@pvna.com.au
CREATED:20190224T200607Z
DESCRIPTION:2019 Autumn Section:11&Under\nRound:Rnd 10
LAST-MODIFIED:20190224T200607Z
LOCATION:Court: 3
SEQUENCE:0
STATUS:CONFIRMED
SUMMARY:11&U-Rnd 10: Falcons vs SS Emeralds
TRANSP:OPAQUE
END:VEVENT
BEGIN:VEVENT
DTSTART:20190511T084500
DTEND:20190511T092500
DTSTAMP:20190224T120607Z
UID:61cbd9b886da1ae5ebc59a13ea4bb67d@pvna.com.au
CREATED:20190224T200607Z
DESCRIPTION:2019 Autumn Section:11&Under\nRound:Rnd 12
LAST-MODIFIED:20190224T200607Z
LOCATION:Court: 3
SEQUENCE:0
STATUS:CONFIRMED
SUMMARY:11&U-Rnd 12: The Flying Eagles1 vs SS Emeralds
TRANSP:OPAQUE
END:VEVENT
BEGIN:VEVENT
DTSTART:20190518T093000
DTEND:20190518T101000
DTSTAMP:20190224T120607Z
UID:aa59fe4fdd656a21dc881826ec718fab@pvna.com.au
CREATED:20190224T200607Z
DESCRIPTION:2019 Autumn Section:11&Under\nRound:Rnd 13
LAST-MODIFIED:20190224T200607Z
LOCATION:Court: 4
SEQUENCE:0
STATUS:CONFIRMED
SUMMARY:11&U-Rnd 13: 8-10s vs SS Emeralds
TRANSP:OPAQUE
END:VEVENT
BEGIN:VEVENT
DTSTART:20190525T084500
DTEND:20190525T092500
DTSTAMP:20190224T120607Z
UID:06044ae35213041e8d26b22643ca4b25@pvna.com.au
CREATED:20190224T200607Z
DESCRIPTION:2019 Autumn Section:11&Under\nRound:Rnd 14
LAST-MODIFIED:20190224T200607Z
LOCATION:Court: 3
SEQUENCE:0
STATUS:CONFIRMED
SUMMARY:11&U-Rnd 14: The Flying Eagles2 vs SS Emeralds
TRANSP:OPAQUE
END:VEVENT
BEGIN:VEVENT
DTSTART:20190601T084500
DTEND:20190601T092500
DTSTAMP:20190224T120607Z
UID:47fedc523082bac574ff4b0c5106e2ef@pvna.com.au
CREATED:20190224T200607Z
DESCRIPTION:2019 Autumn Section:11&Under\nRound:Rnd 15
LAST-MODIFIED:20190224T200607Z
LOCATION:Court: 1
SEQUENCE:0
STATUS:CONFIRMED
SUMMARY:11&U-Rnd 15: Falcons vs SS Emeralds
TRANSP:OPAQUE
END:VEVENT
BEGIN:VEVENT
DTSTART:20190615T084500
DTEND:20190615T092500
DTSTAMP:20190224T120607Z
UID:802aa15e1864cd4613708dcd5c4f3193@pvna.com.au
CREATED:20190224T200607Z
DESCRIPTION:2019 Autumn Section:11&Under\nRound:Rnd 16
LAST-MODIFIED:20190224T200607Z
LOCATION:Court: 3
SEQUENCE:0
STATUS:CONFIRMED
SUMMARY:11&U-Rnd 16: Awesome Angels 11s1 vs SS Emeralds
TRANSP:OPAQUE
END:VEVENT
BEGIN:VEVENT
DTSTART:20190622T101500
DTEND:20190622T105500
DTSTAMP:20190224T120607Z
UID:c010bf847f48a01454e2489fa70157e9@pvna.com.au
CREATED:20190224T200607Z
DESCRIPTION:2019 Autumn Section:11&Under\nRound:Rnd 17
LAST-MODIFIED:20190224T200607Z
LOCATION:Court: 1
SEQUENCE:0
STATUS:CONFIRMED
SUMMARY:11&U-Rnd 17: The Flying Eagles1 vs SS Emeralds
TRANSP:OPAQUE
END:VEVENT
BEGIN:VEVENT
DTSTART:20190629T093000
DTEND:20190629T101000
DTSTAMP:20190224T120607Z
UID:7254a69787b18f29e1ad00142d9952c8@pvna.com.au
CREATED:20190224T200607Z
DESCRIPTION:2019 Autumn Section:11&Under\nRound:Rnd 18
LAST-MODIFIED:20190224T200607Z
LOCATION:Court: 4
SEQUENCE:0
STATUS:CONFIRMED
SUMMARY:11&U-Rnd 18: 8-10s vs SS Emeralds
TRANSP:OPAQUE
END:VEVENT
END:VCALENDAR
