BEGIN:VCALENDAR
PRODID:-//Google Inc//Google Calendar 70.9054//EN
VERSION:2.0
CALSCALE:GREGORIAN
METHOD:PUBLISH
X-WR-CALNAME:PV Comets SS Magic
X-WR-TIMEZONE:Australia/Sydney
X-WR-CALDESC:PV Comets Parkville Calendars
BEGIN:VEVENT
DTSTART:20190202T101500
DTEND:20190202T105500
DTSTAMP:20190224T120607Z
UID:d0d14ec416098acefa66744491a544d2@pvna.com.au
CREATED:20190224T200607Z
DESCRIPTION:2019 Autumn Section:17&Under\nRound:Rnd 1
LAST-MODIFIED:20190224T200607Z
LOCATION:Court: 3
SEQUENCE:0
STATUS:CONFIRMED
SUMMARY:17&U-Rnd 1: SS Magic (33) vs SS Sparks (17)
TRANSP:OPAQUE
END:VEVENT
BEGIN:VEVENT
DTSTART:20190209T101500
DTEND:20190209T105500
DTSTAMP:20190224T120607Z
UID:9857b8b839cb21e5bdf5ce2a8e503788@pvna.com.au
CREATED:20190224T200607Z
DESCRIPTION:2019 Autumn Section:17&Under\nRound:Rnd 2
LAST-MODIFIED:20190224T200607Z
LOCATION:Court: 3
SEQUENCE:0
STATUS:CONFIRMED
SUMMARY:17&U-Rnd 2: Roxy (21) vs SS Magic (22)
TRANSP:OPAQUE
END:VEVENT
BEGIN:VEVENT
DTSTART:20190216T110000
DTEND:20190216T114500
DTSTAMP:20190224T120607Z
UID:722d22f8819b12ed9bd75f48f5255ccf@pvna.com.au
CREATED:20190224T200607Z
DESCRIPTION:2019 Autumn Section:17&Under\nRound:Rnd 3
LAST-MODIFIED:20190224T200607Z
LOCATION:Court: 2
SEQUENCE:0
STATUS:CONFIRMED
SUMMARY:17&U-Rnd 3: SS Magic (40) vs Awesome Angels 17s1 (13)
TRANSP:OPAQUE
END:VEVENT
BEGIN:VEVENT
DTSTART:20190223T101500
DTEND:20190223T105500
DTSTAMP:20190224T120607Z
UID:971bb6f523c8faf3b91d6ccd7c35ca1b@pvna.com.au
CREATED:20190224T200607Z
DESCRIPTION:2019 Autumn Section:17&Under\nRound:Rnd 4
LAST-MODIFIED:20190224T200607Z
LOCATION:Court: 3
SEQUENCE:0
STATUS:CONFIRMED
SUMMARY:17&U-Rnd 4: NB Kangas (21) vs SS Magic (30)
TRANSP:OPAQUE
END:VEVENT
BEGIN:VEVENT
DTSTART:20190302T084500
DTEND:20190302T092500
DTSTAMP:20190224T120607Z
UID:2c8315f1223a611123377cdcdb591c80@pvna.com.au
CREATED:20190224T200607Z
DESCRIPTION:2019 Autumn Section:17&Under\nRound:Rnd 5\n\nCurrent Ladder:\nTeam            P  W  L  D  Pts\nPhoenix         4  4  0  0  16\nSS Magic        4  4  0  0  16\nSS Sparks       4  2  2  0  8 \nRoxy            4  1  3  0  4 \nNB Kangas       4  1  3  0  4 \nAwesome Angels 17s1 4  0  4  0  0 \n
LAST-MODIFIED:20190224T200607Z
LOCATION:Court: 3
SEQUENCE:0
STATUS:CONFIRMED
SUMMARY:17&U-Rnd 5: SS Magic vs Phoenix
TRANSP:OPAQUE
END:VEVENT
BEGIN:VEVENT
DTSTART:20190316T101500
DTEND:20190316T105500
DTSTAMP:20190224T120607Z
UID:c65e8d5de025f8b189e9a6822727760c@pvna.com.au
CREATED:20190224T200607Z
DESCRIPTION:2019 Autumn Section:17&Under\nRound:Rnd 6
LAST-MODIFIED:20190224T200607Z
LOCATION:Court: 3
SEQUENCE:0
STATUS:CONFIRMED
SUMMARY:17&U-Rnd 6: SS Magic vs SS Sparks
TRANSP:OPAQUE
END:VEVENT
BEGIN:VEVENT
DTSTART:20190323T101500
DTEND:20190323T105500
DTSTAMP:20190224T120607Z
UID:de0b8a2805cc264a12265494f2bc15fe@pvna.com.au
CREATED:20190224T200607Z
DESCRIPTION:2019 Autumn Section:17&Under\nRound:Rnd 7
LAST-MODIFIED:20190224T200607Z
LOCATION:Court: 3
SEQUENCE:0
STATUS:CONFIRMED
SUMMARY:17&U-Rnd 7: Roxy vs SS Magic
TRANSP:OPAQUE
END:VEVENT
BEGIN:VEVENT
DTSTART:20190330T110000
DTEND:20190330T114500
DTSTAMP:20190224T120607Z
UID:5402b2448cfa96e9b4dcf9f6ce77efe6@pvna.com.au
CREATED:20190224T200607Z
DESCRIPTION:2019 Autumn Section:17&Under\nRound:Rnd 8
LAST-MODIFIED:20190224T200607Z
LOCATION:Court: 4
SEQUENCE:0
STATUS:CONFIRMED
SUMMARY:17&U-Rnd 8: SS Magic vs Awesome Angels 17s1
TRANSP:OPAQUE
END:VEVENT
BEGIN:VEVENT
DTSTART:20190406T114500
DTEND:20190406T122500
DTSTAMP:20190224T120607Z
UID:5e8dee43e9bbc9fd4afb2dda880c5b11@pvna.com.au
CREATED:20190224T200607Z
DESCRIPTION:2019 Autumn Section:17&Under\nRound:Rnd 9
LAST-MODIFIED:20190224T200607Z
LOCATION:Court: 1
SEQUENCE:0
STATUS:CONFIRMED
SUMMARY:17&U-Rnd 9: NB Kangas vs SS Magic
TRANSP:OPAQUE
END:VEVENT
BEGIN:VEVENT
DTSTART:20190427T114500
DTEND:20190427T122500
DTSTAMP:20190224T120607Z
UID:1a01bdf2bdf9023338f1dc8b4251cf6d@pvna.com.au
CREATED:20190224T200607Z
DESCRIPTION:2019 Autumn Section:17&Under\nRound:Rnd 10
LAST-MODIFIED:20190224T200607Z
LOCATION:Court: 1
SEQUENCE:0
STATUS:CONFIRMED
SUMMARY:17&U-Rnd 10: SS Magic vs Phoenix
TRANSP:OPAQUE
END:VEVENT
BEGIN:VEVENT
DTSTART:20190504T084500
DTEND:20190504T092500
DTSTAMP:20190224T120607Z
UID:c654271610631495b9f1f4c70b4758ce@pvna.com.au
CREATED:20190224T200607Z
DESCRIPTION:2019 Autumn Section:17&Under\nRound:Rnd 11
LAST-MODIFIED:20190224T200607Z
LOCATION:Court: 1
SEQUENCE:0
STATUS:CONFIRMED
SUMMARY:17&U-Rnd 11: SS Magic vs SS Sparks
TRANSP:OPAQUE
END:VEVENT
BEGIN:VEVENT
DTSTART:20190511T114500
DTEND:20190511T122500
DTSTAMP:20190224T120607Z
UID:e79189c09fc6ea3256f180311e5b69ec@pvna.com.au
CREATED:20190224T200607Z
DESCRIPTION:2019 Autumn Section:17&Under\nRound:Rnd 12
LAST-MODIFIED:20190224T200607Z
LOCATION:Court: 1
SEQUENCE:0
STATUS:CONFIRMED
SUMMARY:17&U-Rnd 12: SS Magic vs Roxy
TRANSP:OPAQUE
END:VEVENT
BEGIN:VEVENT
DTSTART:20190518T110000
DTEND:20190518T114500
DTSTAMP:20190224T120607Z
UID:1544f07fa536e6a812d9f9e802ce7cf6@pvna.com.au
CREATED:20190224T200607Z
DESCRIPTION:2019 Autumn Section:17&Under\nRound:Rnd 13
LAST-MODIFIED:20190224T200607Z
LOCATION:Court: 4
SEQUENCE:0
STATUS:CONFIRMED
SUMMARY:17&U-Rnd 13: Awesome Angels 17s1 vs SS Magic
TRANSP:OPAQUE
END:VEVENT
BEGIN:VEVENT
DTSTART:20190601T110000
DTEND:20190601T114500
DTSTAMP:20190224T120607Z
UID:4a811e908e4abbd0ed3b8cd85bc644ab@pvna.com.au
CREATED:20190224T200607Z
DESCRIPTION:2019 Autumn Section:17&Under\nRound:Rnd 15
LAST-MODIFIED:20190224T200607Z
LOCATION:Court: 2
SEQUENCE:0
STATUS:CONFIRMED
SUMMARY:17&U-Rnd 15: Phoenix vs SS Magic
TRANSP:OPAQUE
END:VEVENT
END:VCALENDAR
