BEGIN:VCALENDAR
PRODID:-//Google Inc//Google Calendar 70.9054//EN
VERSION:2.0
CALSCALE:GREGORIAN
METHOD:PUBLISH
X-WR-CALNAME:PV Comets SS Quartz
X-WR-TIMEZONE:Australia/Sydney
X-WR-CALDESC:PV Comets Parkville Calendars
BEGIN:VEVENT
DTSTART:20190202T101500
DTEND:20190202T105500
DTSTAMP:20190129T064108Z
UID:011926df6d545fc2fc8e4f9f2cc2591f@pvna.com.au
CREATED:20190129T144108Z
DESCRIPTION:2019 Autumn Section:11&Under\nRound:Rnd 1
LAST-MODIFIED:20190129T144108Z
LOCATION:Court: 4
SEQUENCE:0
STATUS:CONFIRMED
SUMMARY:11&U-Rnd 1: Falcons vs SS Quartz
TRANSP:OPAQUE
END:VEVENT
BEGIN:VEVENT
DTSTART:20190209T084500
DTEND:20190209T092500
DTSTAMP:20190129T064108Z
UID:3628c0ecce191cf74b422c4113d33814@pvna.com.au
CREATED:20190129T144108Z
DESCRIPTION:2019 Autumn Section:11&Under\nRound:Rnd 2\n\nCurrent Ladder:\nTeam            P  W  L  D  Pts\nAwesome Angels 11s1 0  0  0  0  0 \nFalcons         0  0  0  0  0 \nThe Flying Eagles 11s 0  0  0  0  0 \nAwesome Angels 11s2 0  0  0  0  0 \nSS Quartz       0  0  0  0  0 \n
LAST-MODIFIED:20190129T144108Z
LOCATION:Court: 4
SEQUENCE:0
STATUS:CONFIRMED
SUMMARY:11&U-Rnd 2: SS Quartz vs Awesome Angels 11s1
TRANSP:OPAQUE
END:VEVENT
BEGIN:VEVENT
DTSTART:20190216T093000
DTEND:20190216T101000
DTSTAMP:20190129T064108Z
UID:113a2bfc67bbce8bf03143ac20a8bc9e@pvna.com.au
CREATED:20190129T144108Z
DESCRIPTION:2019 Autumn Section:11&Under\nRound:Rnd 3
LAST-MODIFIED:20190129T144108Z
LOCATION:Court: 2
SEQUENCE:0
STATUS:CONFIRMED
SUMMARY:11&U-Rnd 3: The Flying Eagles 11s vs SS Quartz
TRANSP:OPAQUE
END:VEVENT
BEGIN:VEVENT
DTSTART:20190223T084500
DTEND:20190223T092500
DTSTAMP:20190129T064108Z
UID:6bd910ba13403439fdd6a289e42975c9@pvna.com.au
CREATED:20190129T144108Z
DESCRIPTION:2019 Autumn Section:11&Under\nRound:Rnd 4
LAST-MODIFIED:20190129T144108Z
LOCATION:Court: 99
SEQUENCE:0
STATUS:CONFIRMED
SUMMARY:11&U-Rnd 4: SS Quartz vs BYE
TRANSP:OPAQUE
END:VEVENT
BEGIN:VEVENT
DTSTART:20190302T114500
DTEND:20190302T122500
DTSTAMP:20190129T064108Z
UID:41f87b94cb78cd34854096d32a55ab29@pvna.com.au
CREATED:20190129T144108Z
DESCRIPTION:2019 Autumn Section:11&Under\nRound:Rnd 5
LAST-MODIFIED:20190129T144108Z
LOCATION:Court: 4
SEQUENCE:0
STATUS:CONFIRMED
SUMMARY:11&U-Rnd 5: Awesome Angels 11s2 vs SS Quartz
TRANSP:OPAQUE
END:VEVENT
BEGIN:VEVENT
DTSTART:20190316T084500
DTEND:20190316T092500
DTSTAMP:20190129T064108Z
UID:93b499b92309faea6e3c56c7f7cfdd09@pvna.com.au
CREATED:20190129T144108Z
DESCRIPTION:2019 Autumn Section:11&Under\nRound:Rnd 6
LAST-MODIFIED:20190129T144108Z
LOCATION:Court: 3
SEQUENCE:0
STATUS:CONFIRMED
SUMMARY:11&U-Rnd 6: Falcons vs SS Quartz
TRANSP:OPAQUE
END:VEVENT
BEGIN:VEVENT
DTSTART:20190323T084500
DTEND:20190323T092500
DTSTAMP:20190129T064108Z
UID:453fb9805aff3a6494fd5df9f1c77138@pvna.com.au
CREATED:20190129T144108Z
DESCRIPTION:2019 Autumn Section:11&Under\nRound:Rnd 7
LAST-MODIFIED:20190129T144108Z
LOCATION:Court: 1
SEQUENCE:0
STATUS:CONFIRMED
SUMMARY:11&U-Rnd 7: SS Quartz vs Awesome Angels 11s1
TRANSP:OPAQUE
END:VEVENT
BEGIN:VEVENT
DTSTART:20190330T084500
DTEND:20190330T092500
DTSTAMP:20190129T064108Z
UID:604cef97b47e65377121c239795aeb21@pvna.com.au
CREATED:20190129T144108Z
DESCRIPTION:2019 Autumn Section:11&Under\nRound:Rnd 8
LAST-MODIFIED:20190129T144108Z
LOCATION:Court: 3
SEQUENCE:0
STATUS:CONFIRMED
SUMMARY:11&U-Rnd 8: The Flying Eagles 11s vs SS Quartz
TRANSP:OPAQUE
END:VEVENT
BEGIN:VEVENT
DTSTART:20190406T084500
DTEND:20190406T092500
DTSTAMP:20190129T064108Z
UID:6b84f2aae773a41f72379aaf455343e0@pvna.com.au
CREATED:20190129T144108Z
DESCRIPTION:2019 Autumn Section:11&Under\nRound:Rnd 9
LAST-MODIFIED:20190129T144108Z
LOCATION:Court: 99
SEQUENCE:0
STATUS:CONFIRMED
SUMMARY:11&U-Rnd 9: SS Quartz vs BYE
TRANSP:OPAQUE
END:VEVENT
BEGIN:VEVENT
DTSTART:20190427T084500
DTEND:20190427T092500
DTSTAMP:20190129T064108Z
UID:be97fce3bdd7e3aca243cd6789ec18e1@pvna.com.au
CREATED:20190129T144108Z
DESCRIPTION:2019 Autumn Section:11&Under\nRound:Rnd 10
LAST-MODIFIED:20190129T144108Z
LOCATION:Court: 3
SEQUENCE:0
STATUS:CONFIRMED
SUMMARY:11&U-Rnd 10: Awesome Angels 11s2 vs SS Quartz
TRANSP:OPAQUE
END:VEVENT
BEGIN:VEVENT
DTSTART:20190511T084500
DTEND:20190511T092500
DTSTAMP:20190129T064108Z
UID:b6b1ae3565589327f72d8feb023d9859@pvna.com.au
CREATED:20190129T144108Z
DESCRIPTION:2019 Autumn Section:11&Under\nRound:Rnd 12
LAST-MODIFIED:20190129T144108Z
LOCATION:Court: 3
SEQUENCE:0
STATUS:CONFIRMED
SUMMARY:11&U-Rnd 12: Falcons vs SS Quartz
TRANSP:OPAQUE
END:VEVENT
BEGIN:VEVENT
DTSTART:20190518T084500
DTEND:20190518T092500
DTSTAMP:20190129T064108Z
UID:7cf63d254889f3fad430e4932c9373c8@pvna.com.au
CREATED:20190129T144108Z
DESCRIPTION:2019 Autumn Section:11&Under\nRound:Rnd 13
LAST-MODIFIED:20190129T144108Z
LOCATION:Court: 3
SEQUENCE:0
STATUS:CONFIRMED
SUMMARY:11&U-Rnd 13: SS Quartz vs Awesome Angels 11s1
TRANSP:OPAQUE
END:VEVENT
BEGIN:VEVENT
DTSTART:20190525T084500
DTEND:20190525T092500
DTSTAMP:20190129T064108Z
UID:383f49078119d3481e91bb9d7337bfcb@pvna.com.au
CREATED:20190129T144108Z
DESCRIPTION:2019 Autumn Section:11&Under\nRound:Rnd 14
LAST-MODIFIED:20190129T144108Z
LOCATION:Court: 3
SEQUENCE:0
STATUS:CONFIRMED
SUMMARY:11&U-Rnd 14: The Flying Eagles 11s vs SS Quartz
TRANSP:OPAQUE
END:VEVENT
BEGIN:VEVENT
DTSTART:20190601T084500
DTEND:20190601T092500
DTSTAMP:20190129T064108Z
UID:888ce47b435f2814fcd13cab1f4b937f@pvna.com.au
CREATED:20190129T144108Z
DESCRIPTION:2019 Autumn Section:11&Under\nRound:Rnd 15
LAST-MODIFIED:20190129T144108Z
LOCATION:Court: 99
SEQUENCE:0
STATUS:CONFIRMED
SUMMARY:11&U-Rnd 15: SS Quartz vs BYE
TRANSP:OPAQUE
END:VEVENT
BEGIN:VEVENT
DTSTART:20190615T084500
DTEND:20190615T092500
DTSTAMP:20190129T064108Z
UID:1f02fc7c1e6be6d87aff85323624d5ea@pvna.com.au
CREATED:20190129T144108Z
DESCRIPTION:2019 Autumn Section:11&Under\nRound:Rnd 16
LAST-MODIFIED:20190129T144108Z
LOCATION:Court: 3
SEQUENCE:0
STATUS:CONFIRMED
SUMMARY:11&U-Rnd 16: Awesome Angels 11s2 vs SS Quartz
TRANSP:OPAQUE
END:VEVENT
BEGIN:VEVENT
DTSTART:20190629T084500
DTEND:20190629T092500
DTSTAMP:20190129T064108Z
UID:073b71401c17dfef0fdf1b42705c9be4@pvna.com.au
CREATED:20190129T144108Z
DESCRIPTION:2019 Autumn Section:11&Under\nRound:Rnd 18
LAST-MODIFIED:20190129T144108Z
LOCATION:Court: 3
SEQUENCE:0
STATUS:CONFIRMED
SUMMARY:11&U-Rnd 18: Falcons vs SS Quartz
TRANSP:OPAQUE
END:VEVENT
END:VCALENDAR
