BEGIN:VCALENDAR
PRODID:-//Google Inc//Google Calendar 70.9054//EN
VERSION:2.0
CALSCALE:GREGORIAN
METHOD:PUBLISH
X-WR-CALNAME:PV Comets SS Rubies
X-WR-TIMEZONE:Australia/Sydney
X-WR-CALDESC:PV Comets Parkville Calendars
BEGIN:VEVENT
DTSTART:20190202T084500
DTEND:20190202T092500
DTSTAMP:20190224T120607Z
UID:e1fa0fd084796f5b427b8cf244f791cb@pvna.com.au
CREATED:20190224T200607Z
DESCRIPTION:2019 Autumn Section:15&Under\nRound:Rnd 1
LAST-MODIFIED:20190224T200607Z
LOCATION:Court: 4
SEQUENCE:0
STATUS:CONFIRMED
SUMMARY:15&U-Rnd 1: SS Rubies (14) vs Power (19)
TRANSP:OPAQUE
END:VEVENT
BEGIN:VEVENT
DTSTART:20190209T093000
DTEND:20190209T101000
DTSTAMP:20190224T120607Z
UID:dc7c34c90142b5778659d16b8a628a52@pvna.com.au
CREATED:20190224T200607Z
DESCRIPTION:2019 Autumn Section:15&Under\nRound:Rnd 2
LAST-MODIFIED:20190224T200607Z
LOCATION:Court: 4
SEQUENCE:0
STATUS:CONFIRMED
SUMMARY:15&U-Rnd 2: Storm (18) vs SS Rubies (20)
TRANSP:OPAQUE
END:VEVENT
BEGIN:VEVENT
DTSTART:20190216T093000
DTEND:20190216T101000
DTSTAMP:20190224T120607Z
UID:8a994e65366b207b242e5ad550763e94@pvna.com.au
CREATED:20190224T200607Z
DESCRIPTION:2019 Autumn Section:15&Under\nRound:Rnd 3
LAST-MODIFIED:20190224T200607Z
LOCATION:Court: 1
SEQUENCE:0
STATUS:CONFIRMED
SUMMARY:15&U-Rnd 3: Awesome Angels 15s1 (16) vs SS Rubies (28)
TRANSP:OPAQUE
END:VEVENT
BEGIN:VEVENT
DTSTART:20190223T084500
DTEND:20190223T092500
DTSTAMP:20190224T120607Z
UID:5f9814d27dc5f15a16c2a69f5a208cb7@pvna.com.au
CREATED:20190224T200607Z
DESCRIPTION:2019 Autumn Section:15&Under\nRound:Rnd 4
LAST-MODIFIED:20190224T200607Z
LOCATION:Court: 1
SEQUENCE:0
STATUS:CONFIRMED
SUMMARY:15&U-Rnd 4: Wildcats 15s (31) vs SS Rubies (24)
TRANSP:OPAQUE
END:VEVENT
BEGIN:VEVENT
DTSTART:20190302T093000
DTEND:20190302T101000
DTSTAMP:20190224T120607Z
UID:d0a6aadf508cfd93f1a49df707e12a6c@pvna.com.au
CREATED:20190224T200607Z
DESCRIPTION:2019 Autumn Section:15&Under\nRound:Rnd 5\n\nCurrent Ladder:\nTeam            P  W  L  D  Pts\nWildcats 15s    4  4  0  0  16\nSS Saphires     4  4  0  0  16\nAwesome Angels 15s2 4  3  1  0  12\nPower           4  3  1  0  12\nNeon Nightmares 15s 4  3  1  0  12\nSS Rubies       4  2  2  0  8 \nSS Strikers     3  1  2  0  4 \nAwesome Angels 15s3 3  1  2  0  4 \nStorm           3  0  3  0  0 \nAwesome Angels 15s1 3  0  3  0  0 \nNB Lions        3  0  3  0  0 \n
LAST-MODIFIED:20190224T200607Z
LOCATION:Court: 2
SEQUENCE:0
STATUS:CONFIRMED
SUMMARY:15&U-Rnd 5: Awesome Angels 15s2 vs SS Rubies
TRANSP:OPAQUE
END:VEVENT
BEGIN:VEVENT
DTSTART:20190316T084500
DTEND:20190316T092500
DTSTAMP:20190224T120607Z
UID:7d4c57a09584185f7b1d8bb2a0c9d981@pvna.com.au
CREATED:20190224T200607Z
DESCRIPTION:2019 Autumn Section:15&Under\nRound:Rnd 6
LAST-MODIFIED:20190224T200607Z
LOCATION:Court: 2
SEQUENCE:0
STATUS:CONFIRMED
SUMMARY:15&U-Rnd 6: Wildcats 15s vs SS Rubies
TRANSP:OPAQUE
END:VEVENT
BEGIN:VEVENT
DTSTART:20190323T084500
DTEND:20190323T092500
DTSTAMP:20190224T120607Z
UID:e3165c172f0df39e11edfd645cde0c17@pvna.com.au
CREATED:20190224T200607Z
DESCRIPTION:2019 Autumn Section:15&Under\nRound:Rnd 7
LAST-MODIFIED:20190224T200607Z
LOCATION:Court: 1
SEQUENCE:0
STATUS:CONFIRMED
SUMMARY:15&U-Rnd 7: SS Rubies vs Power
TRANSP:OPAQUE
END:VEVENT
BEGIN:VEVENT
DTSTART:20190323T110000
DTEND:20190323T114500
DTSTAMP:20190224T120607Z
UID:5d01f69a2a05e9dd19b8ef75501b9f36@pvna.com.au
CREATED:20190224T200607Z
DESCRIPTION:2019 Autumn Section:15&U Res\nRound:Rnd 7
LAST-MODIFIED:20190224T200607Z
LOCATION:Court: 99
SEQUENCE:0
STATUS:CONFIRMED
SUMMARY:15&U-Rnd 7: SS Rubies vs BYE
TRANSP:OPAQUE
END:VEVENT
BEGIN:VEVENT
DTSTART:20190406T110000
DTEND:20190406T114500
DTSTAMP:20190224T120607Z
UID:328771e7108f580ff60efa859f9a76c4@pvna.com.au
CREATED:20190224T200607Z
DESCRIPTION:2019 Autumn Section:15&Under\nRound:Rnd 9
LAST-MODIFIED:20190224T200607Z
LOCATION:Court: 1
SEQUENCE:0
STATUS:CONFIRMED
SUMMARY:15&U-Rnd 9: SS Rubies vs Awesome Angels 15s2
TRANSP:OPAQUE
END:VEVENT
BEGIN:VEVENT
DTSTART:20190504T093000
DTEND:20190504T101000
DTSTAMP:20190224T120607Z
UID:45e7f81f99d3733318051375499b8c21@pvna.com.au
CREATED:20190224T200607Z
DESCRIPTION:2019 Autumn Section:15&Under\nRound:Rnd 11
LAST-MODIFIED:20190224T200607Z
LOCATION:Court: 4
SEQUENCE:0
STATUS:CONFIRMED
SUMMARY:15&U-Rnd 11: SS Rubies vs SS Saphires
TRANSP:OPAQUE
END:VEVENT
BEGIN:VEVENT
DTSTART:20190511T101500
DTEND:20190511T105500
DTSTAMP:20190224T120607Z
UID:455b9a9f34b0099937d87f439209ec33@pvna.com.au
CREATED:20190224T200607Z
DESCRIPTION:2019 Autumn Section:15&Under\nRound:Rnd 12
LAST-MODIFIED:20190224T200607Z
LOCATION:Court: 4
SEQUENCE:0
STATUS:CONFIRMED
SUMMARY:15&U-Rnd 12: SS Rubies vs Power
TRANSP:OPAQUE
END:VEVENT
BEGIN:VEVENT
DTSTART:20190518T101500
DTEND:20190518T105500
DTSTAMP:20190224T120607Z
UID:dc4efadfc4a47dbb0549ba7397c120ba@pvna.com.au
CREATED:20190224T200607Z
DESCRIPTION:2019 Autumn Section:15&Under\nRound:Rnd 13
LAST-MODIFIED:20190224T200607Z
LOCATION:Court: 3
SEQUENCE:0
STATUS:CONFIRMED
SUMMARY:15&U-Rnd 13: Storm vs SS Rubies
TRANSP:OPAQUE
END:VEVENT
BEGIN:VEVENT
DTSTART:20190601T093000
DTEND:20190601T101000
DTSTAMP:20190224T120607Z
UID:09f5b041e5d9c1c6ae25a7faf9e91405@pvna.com.au
CREATED:20190224T200607Z
DESCRIPTION:2019 Autumn Section:15&Under\nRound:Rnd 15
LAST-MODIFIED:20190224T200607Z
LOCATION:Court: 4
SEQUENCE:0
STATUS:CONFIRMED
SUMMARY:15&U-Rnd 15: Wildcats 15s vs SS Rubies
TRANSP:OPAQUE
END:VEVENT
BEGIN:VEVENT
DTSTART:20190615T101500
DTEND:20190615T105500
DTSTAMP:20190224T120607Z
UID:bf29b8d2772a692de71b45cec1354d14@pvna.com.au
CREATED:20190224T200607Z
DESCRIPTION:2019 Autumn Section:15&Under\nRound:Rnd 16
LAST-MODIFIED:20190224T200607Z
LOCATION:Court: 4
SEQUENCE:0
STATUS:CONFIRMED
SUMMARY:15&U-Rnd 16: SS Strikers vs SS Rubies
TRANSP:OPAQUE
END:VEVENT
BEGIN:VEVENT
DTSTART:20190622T101500
DTEND:20190622T105500
DTSTAMP:20190224T120607Z
UID:7bec06a6a829cd02690d9da7ffe2e4b6@pvna.com.au
CREATED:20190224T200607Z
DESCRIPTION:2019 Autumn Section:15&Under\nRound:Rnd 17
LAST-MODIFIED:20190224T200607Z
LOCATION:Court: 3
SEQUENCE:0
STATUS:CONFIRMED
SUMMARY:15&U-Rnd 17: SS Rubies vs Awesome Angels 15s3
TRANSP:OPAQUE
END:VEVENT
END:VCALENDAR
