BEGIN:VCALENDAR
PRODID:-//Google Inc//Google Calendar 70.9054//EN
VERSION:2.0
CALSCALE:GREGORIAN
METHOD:PUBLISH
X-WR-CALNAME:PV Comets SS Strikers
X-WR-TIMEZONE:Australia/Sydney
X-WR-CALDESC:PV Comets Parkville Calendars
BEGIN:VEVENT
DTSTART:20190202T110000
DTEND:20190202T114500
DTSTAMP:20190224T120607Z
UID:03600d165322284670c2603ad238584d@pvna.com.au
CREATED:20190224T200607Z
DESCRIPTION:2019 Autumn Section:15&Under\nRound:Rnd 1
LAST-MODIFIED:20190224T200607Z
LOCATION:Court: 1
SEQUENCE:0
STATUS:CONFIRMED
SUMMARY:15&U-Rnd 1: Awesome Angels 15s1 (14) vs SS Strikers (17)
TRANSP:OPAQUE
END:VEVENT
BEGIN:VEVENT
DTSTART:20190209T110000
DTEND:20190209T114500
DTSTAMP:20190224T120607Z
UID:9e09f31a0f5cef91af579e57f6b7fc6f@pvna.com.au
CREATED:20190224T200607Z
DESCRIPTION:2019 Autumn Section:15&Under\nRound:Rnd 2
LAST-MODIFIED:20190224T200607Z
LOCATION:Court: 2
SEQUENCE:0
STATUS:CONFIRMED
SUMMARY:15&U-Rnd 2: SS Strikers (7) vs Power (38)
TRANSP:OPAQUE
END:VEVENT
BEGIN:VEVENT
DTSTART:20190216T093000
DTEND:20190216T101000
DTSTAMP:20190224T120607Z
UID:2c41978c5a6da25847e279ae38ee5ea9@pvna.com.au
CREATED:20190224T200607Z
DESCRIPTION:2019 Autumn Section:15&Under\nRound:Rnd 3
LAST-MODIFIED:20190224T200607Z
LOCATION:Court: 2
SEQUENCE:0
STATUS:CONFIRMED
SUMMARY:15&U-Rnd 3: Wildcats 15s (38) vs SS Strikers (3)
TRANSP:OPAQUE
END:VEVENT
BEGIN:VEVENT
DTSTART:20190223T114500
DTEND:20190223T122500
DTSTAMP:20190224T120607Z
UID:f2c211128986a6eac9d4a15acaf8a93f@pvna.com.au
CREATED:20190224T200607Z
DESCRIPTION:2019 Autumn Section:15&U Res\nRound:Rnd 4
LAST-MODIFIED:20190224T200607Z
LOCATION:Court: 2
SEQUENCE:0
STATUS:CONFIRMED
SUMMARY:15&U-Rnd 4: Storm (42) vs SS Strikers (8)
TRANSP:OPAQUE
END:VEVENT
BEGIN:VEVENT
DTSTART:20190302T110000
DTEND:20190302T114500
DTSTAMP:20190224T120607Z
UID:4a9f0c067b116c9ad20368896efb46d1@pvna.com.au
CREATED:20190224T200607Z
DESCRIPTION:2019 Autumn Section:15&U Res\nRound:Rnd 5\n\nCurrent Ladder:\nTeam            P  W  L  D  Pts\nStorm           1  1  0  0  4 \nAwesome Angels 15s1 1  1  0  0  4 \nAwesome Angels 15s3 1  1  0  0  4 \nNB Lions        1  0  1  0  0 \nSS Strikers     1  0  1  0  0 \nAwesome Angels 15s2 0  0  0  0  0 \nSS Rubies       0  0  0  0  0 \nWildcats 15s    0  0  0  0  0 \nPower           0  0  0  0  0 \nSS Saphires     0  0  0  0  0 \n
LAST-MODIFIED:20190224T200607Z
LOCATION:Court: 1
SEQUENCE:0
STATUS:CONFIRMED
SUMMARY:15&U-Rnd 5: SS Strikers vs NB Lions
TRANSP:OPAQUE
END:VEVENT
BEGIN:VEVENT
DTSTART:20190316T110000
DTEND:20190316T114500
DTSTAMP:20190224T120607Z
UID:ea7abc26347b5b3e7a99cc5ac8453f09@pvna.com.au
CREATED:20190224T200607Z
DESCRIPTION:2019 Autumn Section:15&U Res\nRound:Rnd 6
LAST-MODIFIED:20190224T200607Z
LOCATION:Court: 1
SEQUENCE:0
STATUS:CONFIRMED
SUMMARY:15&U-Rnd 6: SS Strikers vs Awesome Angels 15s1
TRANSP:OPAQUE
END:VEVENT
BEGIN:VEVENT
DTSTART:20190323T110000
DTEND:20190323T114500
DTSTAMP:20190224T120607Z
UID:65b79f9585d2cb9cfbb7a77fbd155ac4@pvna.com.au
CREATED:20190224T200607Z
DESCRIPTION:2019 Autumn Section:15&U Res\nRound:Rnd 7
LAST-MODIFIED:20190224T200607Z
LOCATION:Court: 1
SEQUENCE:0
STATUS:CONFIRMED
SUMMARY:15&U-Rnd 7: Storm vs SS Strikers
TRANSP:OPAQUE
END:VEVENT
BEGIN:VEVENT
DTSTART:20190330T110000
DTEND:20190330T114500
DTSTAMP:20190224T120607Z
UID:1ae6f9b09c8806ddd09d2e7fb460290a@pvna.com.au
CREATED:20190224T200607Z
DESCRIPTION:2019 Autumn Section:15&U Res\nRound:Rnd 8
LAST-MODIFIED:20190224T200607Z
LOCATION:Court: 1
SEQUENCE:0
STATUS:CONFIRMED
SUMMARY:15&U-Rnd 8: NB Lions vs SS Strikers
TRANSP:OPAQUE
END:VEVENT
BEGIN:VEVENT
DTSTART:20190406T101500
DTEND:20190406T105500
DTSTAMP:20190224T120607Z
UID:3eddb566522e7a15759edc819e849063@pvna.com.au
CREATED:20190224T200607Z
DESCRIPTION:2019 Autumn Section:15&Under\nRound:Rnd 9
LAST-MODIFIED:20190224T200607Z
LOCATION:Court: 4
SEQUENCE:0
STATUS:CONFIRMED
SUMMARY:15&U-Rnd 9: SS Strikers vs Neon Nightmares 15s
TRANSP:OPAQUE
END:VEVENT
BEGIN:VEVENT
DTSTART:20190406T110000
DTEND:20190406T114500
DTSTAMP:20190224T120607Z
UID:32d1f04ebf5f8453a640b49de93428c0@pvna.com.au
CREATED:20190224T200607Z
DESCRIPTION:2019 Autumn Section:15&U Res\nRound:Rnd 9
LAST-MODIFIED:20190224T200607Z
LOCATION:Court: 2
SEQUENCE:0
STATUS:CONFIRMED
SUMMARY:15&U-Rnd 9: SS Strikers vs Awesome Angels 15s1
TRANSP:OPAQUE
END:VEVENT
BEGIN:VEVENT
DTSTART:20190427T102000
DTEND:20190427T114500
DTSTAMP:20190224T120607Z
UID:c74e4d98276ab798a4a525e169168898@pvna.com.au
CREATED:20190224T200607Z
DESCRIPTION:2019 Autumn Section:15&U Res\nRound:Rnd 10
LAST-MODIFIED:20190224T200607Z
LOCATION:Court: 4
SEQUENCE:0
STATUS:CONFIRMED
SUMMARY:15&U-Rnd 10: SS Strikers vs Storm
TRANSP:OPAQUE
END:VEVENT
BEGIN:VEVENT
DTSTART:20190504T093000
DTEND:20190504T101000
DTSTAMP:20190224T120607Z
UID:e518ae7312dc34c3f85849fdee31a589@pvna.com.au
CREATED:20190224T200607Z
DESCRIPTION:2019 Autumn Section:15&U Res\nRound:Rnd 11
LAST-MODIFIED:20190224T200607Z
LOCATION:Court: 3
SEQUENCE:0
STATUS:CONFIRMED
SUMMARY:15&U-Rnd 11: SS Strikers vs NB Lions
TRANSP:OPAQUE
END:VEVENT
BEGIN:VEVENT
DTSTART:20190511T102000
DTEND:20190511T101000
DTSTAMP:20190224T120607Z
UID:9790809f50029a34aa162cbe4d973b77@pvna.com.au
CREATED:20190224T200607Z
DESCRIPTION:2019 Autumn Section:15&U Res\nRound:Rnd 12
LAST-MODIFIED:20190224T200607Z
LOCATION:Court: 3
SEQUENCE:0
STATUS:CONFIRMED
SUMMARY:15&U-Rnd 12: Awesome Angels 15s1 vs SS Strikers
TRANSP:OPAQUE
END:VEVENT
BEGIN:VEVENT
DTSTART:20190518T101500
DTEND:20190518T105500
DTSTAMP:20190224T120607Z
UID:2e861cbbdfcd8b03e545f12a2abb5466@pvna.com.au
CREATED:20190224T200607Z
DESCRIPTION:2019 Autumn Section:15&Under\nRound:Rnd 13
LAST-MODIFIED:20190224T200607Z
LOCATION:Court: 4
SEQUENCE:0
STATUS:CONFIRMED
SUMMARY:15&U-Rnd 13: SS Strikers vs Power
TRANSP:OPAQUE
END:VEVENT
BEGIN:VEVENT
DTSTART:20190518T110000
DTEND:20190518T114500
DTSTAMP:20190224T120607Z
UID:9b01cf2993b49982141fc197416871e0@pvna.com.au
CREATED:20190224T200607Z
DESCRIPTION:2019 Autumn Section:15&U Res\nRound:Rnd 13
LAST-MODIFIED:20190224T200607Z
LOCATION:Court: 2
SEQUENCE:0
STATUS:CONFIRMED
SUMMARY:15&U-Rnd 13: SS Strikers vs Storm
TRANSP:OPAQUE
END:VEVENT
BEGIN:VEVENT
DTSTART:20190525T101500
DTEND:20190525T105500
DTSTAMP:20190224T120607Z
UID:d65875ead69a6cee1513d69f40f9dccb@pvna.com.au
CREATED:20190224T200607Z
DESCRIPTION:2019 Autumn Section:15&Under\nRound:Rnd 14
LAST-MODIFIED:20190224T200607Z
LOCATION:Court: 2
SEQUENCE:0
STATUS:CONFIRMED
SUMMARY:15&U-Rnd 14: Wildcats 15s vs SS Strikers
TRANSP:OPAQUE
END:VEVENT
BEGIN:VEVENT
DTSTART:20190525T102000
DTEND:20190525T105500
DTSTAMP:20190224T120607Z
UID:e95eb21be545cdfd47e39c3ed18eea43@pvna.com.au
CREATED:20190224T200607Z
DESCRIPTION:2019 Autumn Section:15&U Res\nRound:Rnd 14
LAST-MODIFIED:20190224T200607Z
LOCATION:Court: 4
SEQUENCE:0
STATUS:CONFIRMED
SUMMARY:15&U-Rnd 14: NB Lions vs SS Strikers
TRANSP:OPAQUE
END:VEVENT
BEGIN:VEVENT
DTSTART:20190601T102000
DTEND:20190601T105500
DTSTAMP:20190224T120607Z
UID:610a2c9216986047c581546dc2941039@pvna.com.au
CREATED:20190224T200607Z
DESCRIPTION:2019 Autumn Section:15&U Res\nRound:Rnd 15
LAST-MODIFIED:20190224T200607Z
LOCATION:Court: 1
SEQUENCE:0
STATUS:CONFIRMED
SUMMARY:15&U-Rnd 15: Awesome Angels 15s1 vs SS Strikers
TRANSP:OPAQUE
END:VEVENT
BEGIN:VEVENT
DTSTART:20190615T101500
DTEND:20190615T105500
DTSTAMP:20190224T120607Z
UID:b635647a57e3da340b01078863ce1786@pvna.com.au
CREATED:20190224T200607Z
DESCRIPTION:2019 Autumn Section:15&Under\nRound:Rnd 16
LAST-MODIFIED:20190224T200607Z
LOCATION:Court: 4
SEQUENCE:0
STATUS:CONFIRMED
SUMMARY:15&U-Rnd 16: SS Strikers vs SS Rubies
TRANSP:OPAQUE
END:VEVENT
BEGIN:VEVENT
DTSTART:20190629T110000
DTEND:20190629T114500
DTSTAMP:20190224T120607Z
UID:2c584c084a9d3e0dbaf90c78da4c4042@pvna.com.au
CREATED:20190224T200607Z
DESCRIPTION:2019 Autumn Section:15&Under\nRound:Rnd 18
LAST-MODIFIED:20190224T200607Z
LOCATION:Court: 2
SEQUENCE:0
STATUS:CONFIRMED
SUMMARY:15&U-Rnd 18: SS Strikers vs Awesome Angels 15s3
TRANSP:OPAQUE
END:VEVENT
END:VCALENDAR
