BEGIN:VCALENDAR
PRODID:-//Google Inc//Google Calendar 70.9054//EN
VERSION:2.0
CALSCALE:GREGORIAN
METHOD:PUBLISH
X-WR-CALNAME:PV Comets TBA
X-WR-TIMEZONE:Australia/Sydney
X-WR-CALDESC:PV Comets Parkville Calendars
BEGIN:VEVENT
DTSTART:20190511T093000
DTEND:20190511T101000
DTSTAMP:20190224T120607Z
UID:fc7c9d886dc87687125d8f5f39d8a1ac@pvna.com.au
CREATED:20190224T200607Z
DESCRIPTION:2019 Autumn Section:13&Under\nRound:Rnd 12
LAST-MODIFIED:20190224T200607Z
LOCATION:Court: 1
SEQUENCE:0
STATUS:CONFIRMED
SUMMARY:13&U-Rnd 12: TBA vs TBA
TRANSP:OPAQUE
END:VEVENT
BEGIN:VEVENT
DTSTART:20190511T093000
DTEND:20190511T101000
DTSTAMP:20190224T120607Z
UID:479f7a901dba06f16f1a872d6eed6f10@pvna.com.au
CREATED:20190224T200607Z
DESCRIPTION:2019 Autumn Section:13&Under\nRound:Rnd 12
LAST-MODIFIED:20190224T200607Z
LOCATION:Court: 2
SEQUENCE:0
STATUS:CONFIRMED
SUMMARY:13&U-Rnd 12: TBA vs TBA
TRANSP:OPAQUE
END:VEVENT
BEGIN:VEVENT
DTSTART:20190511T093000
DTEND:20190511T101000
DTSTAMP:20190224T120607Z
UID:54664578f8dc887cdc638e2b8639a3f8@pvna.com.au
CREATED:20190224T200607Z
DESCRIPTION:2019 Autumn Section:13&Under\nRound:Rnd 12
LAST-MODIFIED:20190224T200607Z
LOCATION:Court: 3
SEQUENCE:0
STATUS:CONFIRMED
SUMMARY:13&U-Rnd 12: TBA vs TBA
TRANSP:OPAQUE
END:VEVENT
BEGIN:VEVENT
DTSTART:20190511T093000
DTEND:20190511T101000
DTSTAMP:20190224T120607Z
UID:8bf525830a61ef5b98247aafa801d585@pvna.com.au
CREATED:20190224T200607Z
DESCRIPTION:2019 Autumn Section:13&Under\nRound:Rnd 12
LAST-MODIFIED:20190224T200607Z
LOCATION:Court: 4
SEQUENCE:0
STATUS:CONFIRMED
SUMMARY:13&U-Rnd 12: TBA vs TBA
TRANSP:OPAQUE
END:VEVENT
BEGIN:VEVENT
DTSTART:20190511T101500
DTEND:20190511T105500
DTSTAMP:20190224T120607Z
UID:e159c879c2322807fa622ea0c412b73a@pvna.com.au
CREATED:20190224T200607Z
DESCRIPTION:2019 Autumn Section:13&Under\nRound:Rnd 12
LAST-MODIFIED:20190224T200607Z
LOCATION:Court: 1
SEQUENCE:0
STATUS:CONFIRMED
SUMMARY:13&U-Rnd 12: TBA vs TBA
TRANSP:OPAQUE
END:VEVENT
BEGIN:VEVENT
DTSTART:20190511T101500
DTEND:20190511T105500
DTSTAMP:20190224T120607Z
UID:de75d61c5b4df73e8c195d20ac69468f@pvna.com.au
CREATED:20190224T200607Z
DESCRIPTION:2019 Autumn Section:13&Under\nRound:Rnd 12
LAST-MODIFIED:20190224T200607Z
LOCATION:Court: 99
SEQUENCE:0
STATUS:CONFIRMED
SUMMARY:13&U-Rnd 12: TBA vs BYE
TRANSP:OPAQUE
END:VEVENT
BEGIN:VEVENT
DTSTART:20190518T093000
DTEND:20190518T101000
DTSTAMP:20190224T120607Z
UID:32eba7b619c274f7f11f71f8da4efd2d@pvna.com.au
CREATED:20190224T200607Z
DESCRIPTION:2019 Autumn Section:13&Under\nRound:Rnd 13
LAST-MODIFIED:20190224T200607Z
LOCATION:Court: 1
SEQUENCE:0
STATUS:CONFIRMED
SUMMARY:13&U-Rnd 13: TBA vs TBA
TRANSP:OPAQUE
END:VEVENT
BEGIN:VEVENT
DTSTART:20190518T093000
DTEND:20190518T101000
DTSTAMP:20190224T120607Z
UID:9df6f90c0c0ba444641a2125a9175eb4@pvna.com.au
CREATED:20190224T200607Z
DESCRIPTION:2019 Autumn Section:13&Under\nRound:Rnd 13
LAST-MODIFIED:20190224T200607Z
LOCATION:Court: 2
SEQUENCE:0
STATUS:CONFIRMED
SUMMARY:13&U-Rnd 13: TBA vs TBA
TRANSP:OPAQUE
END:VEVENT
BEGIN:VEVENT
DTSTART:20190518T093000
DTEND:20190518T101000
DTSTAMP:20190224T120607Z
UID:1eae557fc860463b143a2f3c6030278d@pvna.com.au
CREATED:20190224T200607Z
DESCRIPTION:2019 Autumn Section:13&Under\nRound:Rnd 13
LAST-MODIFIED:20190224T200607Z
LOCATION:Court: 3
SEQUENCE:0
STATUS:CONFIRMED
SUMMARY:13&U-Rnd 13: TBA vs TBA
TRANSP:OPAQUE
END:VEVENT
BEGIN:VEVENT
DTSTART:20190518T093000
DTEND:20190518T101000
DTSTAMP:20190224T120607Z
UID:f5bd7fb4baf25a95f008ce83b7b04a0a@pvna.com.au
CREATED:20190224T200607Z
DESCRIPTION:2019 Autumn Section:13&Under\nRound:Rnd 13
LAST-MODIFIED:20190224T200607Z
LOCATION:Court: 4
SEQUENCE:0
STATUS:CONFIRMED
SUMMARY:13&U-Rnd 13: TBA vs TBA
TRANSP:OPAQUE
END:VEVENT
BEGIN:VEVENT
DTSTART:20190518T101500
DTEND:20190518T105500
DTSTAMP:20190224T120607Z
UID:6560179925311152862b5005f9f9c90f@pvna.com.au
CREATED:20190224T200607Z
DESCRIPTION:2019 Autumn Section:13&Under\nRound:Rnd 13
LAST-MODIFIED:20190224T200607Z
LOCATION:Court: 1
SEQUENCE:0
STATUS:CONFIRMED
SUMMARY:13&U-Rnd 13: TBA vs TBA
TRANSP:OPAQUE
END:VEVENT
BEGIN:VEVENT
DTSTART:20190518T101500
DTEND:20190518T105500
DTSTAMP:20190224T120607Z
UID:7c402c150355c80b7af84c9766654800@pvna.com.au
CREATED:20190224T200607Z
DESCRIPTION:2019 Autumn Section:13&Under\nRound:Rnd 13
LAST-MODIFIED:20190224T200607Z
LOCATION:Court: 99
SEQUENCE:0
STATUS:CONFIRMED
SUMMARY:13&U-Rnd 13: TBA vs BYE
TRANSP:OPAQUE
END:VEVENT
BEGIN:VEVENT
DTSTART:20190525T093000
DTEND:20190525T101000
DTSTAMP:20190224T120607Z
UID:8e35ad00ad47efbed75aa9cc6115cae2@pvna.com.au
CREATED:20190224T200607Z
DESCRIPTION:2019 Autumn Section:13&Under\nRound:Rnd 14
LAST-MODIFIED:20190224T200607Z
LOCATION:Court: 1
SEQUENCE:0
STATUS:CONFIRMED
SUMMARY:13&U-Rnd 14: TBA vs TBA
TRANSP:OPAQUE
END:VEVENT
BEGIN:VEVENT
DTSTART:20190525T093000
DTEND:20190525T101000
DTSTAMP:20190224T120607Z
UID:af3c3cb8df0bfb4be572f2b782827631@pvna.com.au
CREATED:20190224T200607Z
DESCRIPTION:2019 Autumn Section:13&Under\nRound:Rnd 14
LAST-MODIFIED:20190224T200607Z
LOCATION:Court: 2
SEQUENCE:0
STATUS:CONFIRMED
SUMMARY:13&U-Rnd 14: TBA vs TBA
TRANSP:OPAQUE
END:VEVENT
BEGIN:VEVENT
DTSTART:20190525T093000
DTEND:20190525T101000
DTSTAMP:20190224T120607Z
UID:a3d89fd5f4526e05ef1bae278c2febd8@pvna.com.au
CREATED:20190224T200607Z
DESCRIPTION:2019 Autumn Section:13&Under\nRound:Rnd 14
LAST-MODIFIED:20190224T200607Z
LOCATION:Court: 3
SEQUENCE:0
STATUS:CONFIRMED
SUMMARY:13&U-Rnd 14: TBA vs TBA
TRANSP:OPAQUE
END:VEVENT
BEGIN:VEVENT
DTSTART:20190525T093000
DTEND:20190525T101000
DTSTAMP:20190224T120607Z
UID:167a079ebb34d7a89642ba369b65c5d7@pvna.com.au
CREATED:20190224T200607Z
DESCRIPTION:2019 Autumn Section:13&Under\nRound:Rnd 14
LAST-MODIFIED:20190224T200607Z
LOCATION:Court: 4
SEQUENCE:0
STATUS:CONFIRMED
SUMMARY:13&U-Rnd 14: TBA vs TBA
TRANSP:OPAQUE
END:VEVENT
BEGIN:VEVENT
DTSTART:20190525T101500
DTEND:20190525T105500
DTSTAMP:20190224T120607Z
UID:30fd7bf306d1966515d1f695f80315e2@pvna.com.au
CREATED:20190224T200607Z
DESCRIPTION:2019 Autumn Section:13&Under\nRound:Rnd 14
LAST-MODIFIED:20190224T200607Z
LOCATION:Court: 1
SEQUENCE:0
STATUS:CONFIRMED
SUMMARY:13&U-Rnd 14: TBA vs TBA
TRANSP:OPAQUE
END:VEVENT
BEGIN:VEVENT
DTSTART:20190525T101500
DTEND:20190525T105500
DTSTAMP:20190224T120607Z
UID:533748b2ac3092ee95770666801e72b9@pvna.com.au
CREATED:20190224T200607Z
DESCRIPTION:2019 Autumn Section:13&Under\nRound:Rnd 14
LAST-MODIFIED:20190224T200607Z
LOCATION:Court: 99
SEQUENCE:0
STATUS:CONFIRMED
SUMMARY:13&U-Rnd 14: TBA vs BYE
TRANSP:OPAQUE
END:VEVENT
BEGIN:VEVENT
DTSTART:20190601T084500
DTEND:20190601T092500
DTSTAMP:20190224T120607Z
UID:49f0ae8c9bfc3bea57ba159e9763d0c3@pvna.com.au
CREATED:20190224T200607Z
DESCRIPTION:2019 Autumn Section:13&Under\nRound:Rnd 15
LAST-MODIFIED:20190224T200607Z
LOCATION:Court: 3
SEQUENCE:0
STATUS:CONFIRMED
SUMMARY:13&U-Rnd 15: TBA vs TBA
TRANSP:OPAQUE
END:VEVENT
BEGIN:VEVENT
DTSTART:20190601T084500
DTEND:20190601T092500
DTSTAMP:20190224T120607Z
UID:a8124939fcb7001e94bdbcb901bde00e@pvna.com.au
CREATED:20190224T200607Z
DESCRIPTION:2019 Autumn Section:13&Under\nRound:Rnd 15
LAST-MODIFIED:20190224T200607Z
LOCATION:Court: 4
SEQUENCE:0
STATUS:CONFIRMED
SUMMARY:13&U-Rnd 15: TBA vs TBA
TRANSP:OPAQUE
END:VEVENT
BEGIN:VEVENT
DTSTART:20190601T093000
DTEND:20190601T101000
DTSTAMP:20190224T120607Z
UID:c3a0ab9b81ea13aac8b02a82e58b5a77@pvna.com.au
CREATED:20190224T200607Z
DESCRIPTION:2019 Autumn Section:13&Under\nRound:Rnd 15
LAST-MODIFIED:20190224T200607Z
LOCATION:Court: 1
SEQUENCE:0
STATUS:CONFIRMED
SUMMARY:13&U-Rnd 15: TBA vs TBA
TRANSP:OPAQUE
END:VEVENT
BEGIN:VEVENT
DTSTART:20190601T093000
DTEND:20190601T101000
DTSTAMP:20190224T120607Z
UID:540b4f5f5708bfaccc5c25556d760a6a@pvna.com.au
CREATED:20190224T200607Z
DESCRIPTION:2019 Autumn Section:13&Under\nRound:Rnd 15
LAST-MODIFIED:20190224T200607Z
LOCATION:Court: 2
SEQUENCE:0
STATUS:CONFIRMED
SUMMARY:13&U-Rnd 15: TBA vs TBA
TRANSP:OPAQUE
END:VEVENT
BEGIN:VEVENT
DTSTART:20190601T093000
DTEND:20190601T101000
DTSTAMP:20190224T120607Z
UID:9c6fe2857f2e2c984b24790c43a56afc@pvna.com.au
CREATED:20190224T200607Z
DESCRIPTION:2019 Autumn Section:13&Under\nRound:Rnd 15
LAST-MODIFIED:20190224T200607Z
LOCATION:Court: 3
SEQUENCE:0
STATUS:CONFIRMED
SUMMARY:13&U-Rnd 15: TBA vs TBA
TRANSP:OPAQUE
END:VEVENT
BEGIN:VEVENT
DTSTART:20190601T093000
DTEND:20190601T101000
DTSTAMP:20190224T120607Z
UID:bcee5c4b98133b76e5e0fb8a788f9fb0@pvna.com.au
CREATED:20190224T200607Z
DESCRIPTION:2019 Autumn Section:13&Under\nRound:Rnd 15
LAST-MODIFIED:20190224T200607Z
LOCATION:Court: 99
SEQUENCE:0
STATUS:CONFIRMED
SUMMARY:13&U-Rnd 15: TBA vs BYE
TRANSP:OPAQUE
END:VEVENT
END:VCALENDAR
