BEGIN:VCALENDAR
PRODID:-//Google Inc//Google Calendar 70.9054//EN
VERSION:2.0
CALSCALE:GREGORIAN
METHOD:PUBLISH
X-WR-CALNAME:PV Comets The Flying Eagles 11s
X-WR-TIMEZONE:Australia/Sydney
X-WR-CALDESC:PV Comets Parkville Calendars
BEGIN:VEVENT
DTSTART:20190202T110000
DTEND:20190202T114500
DTSTAMP:20190210T110353Z
UID:f0fc9d5d15f05dc58684db1d78a220ad@pvna.com.au
CREATED:20190210T190353Z
DESCRIPTION:2019 Autumn Section:11&Under\nRound:Rnd 1
LAST-MODIFIED:20190210T190353Z
LOCATION:Court: 4
SEQUENCE:0
STATUS:CONFIRMED
SUMMARY:11&U-Rnd 1: Awesome Angels 11s1 (3) vs The Flying Eagles 11s (13)
TRANSP:OPAQUE
END:VEVENT
BEGIN:VEVENT
DTSTART:20190209T101500
DTEND:20190209T105500
DTSTAMP:20190210T110353Z
UID:f1aeba41807d42b1f1a8ffff39625bf7@pvna.com.au
CREATED:20190210T190353Z
DESCRIPTION:2019 Autumn Section:11&Under\nRound:Rnd 2
LAST-MODIFIED:20190210T190353Z
LOCATION:Court: 4
SEQUENCE:0
STATUS:CONFIRMED
SUMMARY:11&U-Rnd 2: The Flying Eagles 11s (17) vs Awesome Angels 11s2 (3)
TRANSP:OPAQUE
END:VEVENT
BEGIN:VEVENT
DTSTART:20190216T110000
DTEND:20190216T114500
DTSTAMP:20190210T110353Z
UID:28d00ba34e3434c9fe31284ffc1753fb@pvna.com.au
CREATED:20190210T190353Z
DESCRIPTION:2019 Autumn Section:11&Under\nRound:Rnd 3\n\nCurrent Ladder:\nTeam            P  W  L  D  Pts\nThe Flying Eagles 11s 2  2  0  0  8 \nFalcons         2  2  0  0  8 \nSS Emeralds     2  1  1  0  4 \nAwesome Angels 11s2 2  1  1  0  4 \nAwesome Angels 11s1 2  0  2  0  0 \n
LAST-MODIFIED:20190210T190353Z
LOCATION:Court: 4
SEQUENCE:0
STATUS:CONFIRMED
SUMMARY:11&U-Rnd 3: The Flying Eagles 11s vs SS Emeralds
TRANSP:OPAQUE
END:VEVENT
BEGIN:VEVENT
DTSTART:20190223T101500
DTEND:20190223T105500
DTSTAMP:20190210T110353Z
UID:89abf7672d2bf3cab34bfac7a8b14e03@pvna.com.au
CREATED:20190210T190353Z
DESCRIPTION:2019 Autumn Section:11&Under\nRound:Rnd 4
LAST-MODIFIED:20190210T190353Z
LOCATION:Court: 4
SEQUENCE:0
STATUS:CONFIRMED
SUMMARY:11&U-Rnd 4: The Flying Eagles 11s vs Falcons
TRANSP:OPAQUE
END:VEVENT
BEGIN:VEVENT
DTSTART:20190302T093000
DTEND:20190302T101000
DTSTAMP:20190210T110353Z
UID:ad5afefe14afc6247f40bfb0a1b036e6@pvna.com.au
CREATED:20190210T190353Z
DESCRIPTION:2019 Autumn Section:11&Under\nRound:Rnd 5
LAST-MODIFIED:20190210T190353Z
LOCATION:Court: 99
SEQUENCE:0
STATUS:CONFIRMED
SUMMARY:11&U-Rnd 5: The Flying Eagles 11s vs BYE
TRANSP:OPAQUE
END:VEVENT
BEGIN:VEVENT
DTSTART:20190316T084500
DTEND:20190316T092500
DTSTAMP:20190210T110353Z
UID:34a4605193bd1d776107284f1e74e01c@pvna.com.au
CREATED:20190210T190353Z
DESCRIPTION:2019 Autumn Section:11&Under\nRound:Rnd 6
LAST-MODIFIED:20190210T190353Z
LOCATION:Court: 4
SEQUENCE:0
STATUS:CONFIRMED
SUMMARY:11&U-Rnd 6: Awesome Angels 11s1 vs The Flying Eagles 11s
TRANSP:OPAQUE
END:VEVENT
BEGIN:VEVENT
DTSTART:20190323T084500
DTEND:20190323T092500
DTSTAMP:20190210T110353Z
UID:d3b4990788d72d8faea16589a63e84ea@pvna.com.au
CREATED:20190210T190353Z
DESCRIPTION:2019 Autumn Section:11&Under\nRound:Rnd 7
LAST-MODIFIED:20190210T190353Z
LOCATION:Court: 2
SEQUENCE:0
STATUS:CONFIRMED
SUMMARY:11&U-Rnd 7: The Flying Eagles 11s vs Awesome Angels 11s2
TRANSP:OPAQUE
END:VEVENT
BEGIN:VEVENT
DTSTART:20190330T084500
DTEND:20190330T092500
DTSTAMP:20190210T110353Z
UID:1395882e71eb049ccd7f0d65721d8f8b@pvna.com.au
CREATED:20190210T190353Z
DESCRIPTION:2019 Autumn Section:11&Under\nRound:Rnd 8
LAST-MODIFIED:20190210T190353Z
LOCATION:Court: 3
SEQUENCE:0
STATUS:CONFIRMED
SUMMARY:11&U-Rnd 8: The Flying Eagles 11s vs SS Emeralds
TRANSP:OPAQUE
END:VEVENT
BEGIN:VEVENT
DTSTART:20190406T084500
DTEND:20190406T092500
DTSTAMP:20190210T110353Z
UID:2aadadc170832f74797c5b36ccafbba2@pvna.com.au
CREATED:20190210T190353Z
DESCRIPTION:2019 Autumn Section:11&Under\nRound:Rnd 9
LAST-MODIFIED:20190210T190353Z
LOCATION:Court: 4
SEQUENCE:0
STATUS:CONFIRMED
SUMMARY:11&U-Rnd 9: The Flying Eagles 11s vs Falcons
TRANSP:OPAQUE
END:VEVENT
BEGIN:VEVENT
DTSTART:20190427T093000
DTEND:20190427T101000
DTSTAMP:20190210T110353Z
UID:a7e68215e6722975a7be8dc52ec4d8df@pvna.com.au
CREATED:20190210T190353Z
DESCRIPTION:2019 Autumn Section:11&Under\nRound:Rnd 10
LAST-MODIFIED:20190210T190353Z
LOCATION:Court: 99
SEQUENCE:0
STATUS:CONFIRMED
SUMMARY:11&U-Rnd 10: The Flying Eagles 11s vs BYE
TRANSP:OPAQUE
END:VEVENT
BEGIN:VEVENT
DTSTART:20190511T084500
DTEND:20190511T092500
DTSTAMP:20190210T110353Z
UID:46de717d2dabf82f8a4037a2a99903c7@pvna.com.au
CREATED:20190210T190353Z
DESCRIPTION:2019 Autumn Section:11&Under\nRound:Rnd 12
LAST-MODIFIED:20190210T190353Z
LOCATION:Court: 4
SEQUENCE:0
STATUS:CONFIRMED
SUMMARY:11&U-Rnd 12: Awesome Angels 11s1 vs The Flying Eagles 11s
TRANSP:OPAQUE
END:VEVENT
BEGIN:VEVENT
DTSTART:20190518T084500
DTEND:20190518T092500
DTSTAMP:20190210T110353Z
UID:8306196c5599e5c3ea60e9fa59ad526c@pvna.com.au
CREATED:20190210T190353Z
DESCRIPTION:2019 Autumn Section:11&Under\nRound:Rnd 13
LAST-MODIFIED:20190210T190353Z
LOCATION:Court: 4
SEQUENCE:0
STATUS:CONFIRMED
SUMMARY:11&U-Rnd 13: The Flying Eagles 11s vs Awesome Angels 11s2
TRANSP:OPAQUE
END:VEVENT
BEGIN:VEVENT
DTSTART:20190525T084500
DTEND:20190525T092500
DTSTAMP:20190210T110353Z
UID:9eca45093da0d9092f3ff6ba7ed84f40@pvna.com.au
CREATED:20190210T190353Z
DESCRIPTION:2019 Autumn Section:11&Under\nRound:Rnd 14
LAST-MODIFIED:20190210T190353Z
LOCATION:Court: 3
SEQUENCE:0
STATUS:CONFIRMED
SUMMARY:11&U-Rnd 14: The Flying Eagles 11s vs SS Emeralds
TRANSP:OPAQUE
END:VEVENT
BEGIN:VEVENT
DTSTART:20190601T084500
DTEND:20190601T092500
DTSTAMP:20190210T110353Z
UID:1c00e3a28270a004838375c90758dc6a@pvna.com.au
CREATED:20190210T190353Z
DESCRIPTION:2019 Autumn Section:11&Under\nRound:Rnd 15
LAST-MODIFIED:20190210T190353Z
LOCATION:Court: 2
SEQUENCE:0
STATUS:CONFIRMED
SUMMARY:11&U-Rnd 15: The Flying Eagles 11s vs Falcons
TRANSP:OPAQUE
END:VEVENT
BEGIN:VEVENT
DTSTART:20190615T093000
DTEND:20190615T101000
DTSTAMP:20190210T110353Z
UID:12c16e123eb7a5414c18dcfc53432f77@pvna.com.au
CREATED:20190210T190353Z
DESCRIPTION:2019 Autumn Section:11&Under\nRound:Rnd 16
LAST-MODIFIED:20190210T190353Z
LOCATION:Court: 99
SEQUENCE:0
STATUS:CONFIRMED
SUMMARY:11&U-Rnd 16: The Flying Eagles 11s vs BYE
TRANSP:OPAQUE
END:VEVENT
BEGIN:VEVENT
DTSTART:20190629T084500
DTEND:20190629T092500
DTSTAMP:20190210T110353Z
UID:29d1bd96c58d8d28c29d6a626b3988cb@pvna.com.au
CREATED:20190210T190353Z
DESCRIPTION:2019 Autumn Section:11&Under\nRound:Rnd 18
LAST-MODIFIED:20190210T190353Z
LOCATION:Court: 4
SEQUENCE:0
STATUS:CONFIRMED
SUMMARY:11&U-Rnd 18: Awesome Angels 11s1 vs The Flying Eagles 11s
TRANSP:OPAQUE
END:VEVENT
END:VCALENDAR
