BEGIN:VCALENDAR
PRODID:-//Google Inc//Google Calendar 70.9054//EN
VERSION:2.0
CALSCALE:GREGORIAN
METHOD:PUBLISH
X-WR-CALNAME:PV Comets The Flying Eagles
X-WR-TIMEZONE:Australia/Sydney
X-WR-CALDESC:PV Comets Parkville Calendars
BEGIN:VEVENT
DTSTART:20190202T093000
DTEND:20190202T101000
DTSTAMP:20190210T110353Z
UID:7beb8d2236e563347002d305ecc49afb@pvna.com.au
CREATED:20190210T190353Z
DESCRIPTION:2019 Autumn Section:8-10s\nRound:Rnd 1
LAST-MODIFIED:20190210T190353Z
LOCATION:Court: 2
SEQUENCE:0
STATUS:CONFIRMED
SUMMARY:8-10-Rnd 1: NB Tigers (2) vs The Flying Eagles (22)
TRANSP:OPAQUE
END:VEVENT
BEGIN:VEVENT
DTSTART:20190209T114500
DTEND:20190209T122500
DTSTAMP:20190210T110353Z
UID:3b6342fb823faab0a2fb40b378968b22@pvna.com.au
CREATED:20190210T190353Z
DESCRIPTION:2019 Autumn Section:8-10s\nRound:Rnd 2
LAST-MODIFIED:20190210T190353Z
LOCATION:Court: 2
SEQUENCE:0
STATUS:CONFIRMED
SUMMARY:8-10-Rnd 2: The Flying Eagles (14) vs SS Crystals (4)
TRANSP:OPAQUE
END:VEVENT
BEGIN:VEVENT
DTSTART:20190216T114500
DTEND:20190216T122500
DTSTAMP:20190210T110353Z
UID:348c87a1e365691bd1be93ea347d581d@pvna.com.au
CREATED:20190210T190353Z
DESCRIPTION:2019 Autumn Section:8-10s\nRound:Rnd 3\n\nCurrent Ladder:\nTeam            P  W  L  D  Pts\nThe Flying Eagles 2  2  0  0  8 \nSS Crystals     2  1  1  0  4 \nNB Tigers       2  1  1  0  4 \nAwesome Angels 8-10s1 2  0  2  0  0 \n
LAST-MODIFIED:20190210T190353Z
LOCATION:Court: 2
SEQUENCE:0
STATUS:CONFIRMED
SUMMARY:8-10-Rnd 3: The Flying Eagles vs Awesome Angels 8-10s1
TRANSP:OPAQUE
END:VEVENT
BEGIN:VEVENT
DTSTART:20190223T093000
DTEND:20190223T101000
DTSTAMP:20190210T110353Z
UID:dfcf04fc10e548a944b81ede5adf5f75@pvna.com.au
CREATED:20190210T190353Z
DESCRIPTION:2019 Autumn Section:8-10s\nRound:Rnd 4
LAST-MODIFIED:20190210T190353Z
LOCATION:Court: 4
SEQUENCE:0
STATUS:CONFIRMED
SUMMARY:8-10-Rnd 4: NB Tigers vs The Flying Eagles
TRANSP:OPAQUE
END:VEVENT
BEGIN:VEVENT
DTSTART:20190302T101500
DTEND:20190302T105500
DTSTAMP:20190210T110353Z
UID:81fad2db96c9a9244b2eaa0e2061ec4a@pvna.com.au
CREATED:20190210T190353Z
DESCRIPTION:2019 Autumn Section:8-10s\nRound:Rnd 5
LAST-MODIFIED:20190210T190353Z
LOCATION:Court: 4
SEQUENCE:0
STATUS:CONFIRMED
SUMMARY:8-10-Rnd 5: The Flying Eagles vs SS Crystals
TRANSP:OPAQUE
END:VEVENT
BEGIN:VEVENT
DTSTART:20190316T114500
DTEND:20190316T122500
DTSTAMP:20190210T110353Z
UID:5f929cc2cdab848f0011e743e00c15ac@pvna.com.au
CREATED:20190210T190353Z
DESCRIPTION:2019 Autumn Section:8-10s\nRound:Rnd 6
LAST-MODIFIED:20190210T190353Z
LOCATION:Court: 2
SEQUENCE:0
STATUS:CONFIRMED
SUMMARY:8-10-Rnd 6: The Flying Eagles vs Awesome Angels 8-10s1
TRANSP:OPAQUE
END:VEVENT
BEGIN:VEVENT
DTSTART:20190330T084500
DTEND:20190330T092500
DTSTAMP:20190210T110353Z
UID:f0e743ac342473f2c040b837915d1d8a@pvna.com.au
CREATED:20190210T190353Z
DESCRIPTION:2019 Autumn Section:8-10s\nRound:Rnd 8
LAST-MODIFIED:20190210T190353Z
LOCATION:Court: 2
SEQUENCE:0
STATUS:CONFIRMED
SUMMARY:8-10-Rnd 8: NB Tigers vs The Flying Eagles
TRANSP:OPAQUE
END:VEVENT
BEGIN:VEVENT
DTSTART:20190406T084500
DTEND:20190406T092500
DTSTAMP:20190210T110353Z
UID:3eb52719f501f2e3963c318c4b288361@pvna.com.au
CREATED:20190210T190353Z
DESCRIPTION:2019 Autumn Section:8-10s\nRound:Rnd 9
LAST-MODIFIED:20190210T190353Z
LOCATION:Court: 2
SEQUENCE:0
STATUS:CONFIRMED
SUMMARY:8-10-Rnd 9: The Flying Eagles vs SS Crystals
TRANSP:OPAQUE
END:VEVENT
BEGIN:VEVENT
DTSTART:20190427T084500
DTEND:20190427T092500
DTSTAMP:20190210T110353Z
UID:0a619fbfce98b7183c4800e7c17d469d@pvna.com.au
CREATED:20190210T190353Z
DESCRIPTION:2019 Autumn Section:8-10s\nRound:Rnd 10
LAST-MODIFIED:20190210T190353Z
LOCATION:Court: 2
SEQUENCE:0
STATUS:CONFIRMED
SUMMARY:8-10-Rnd 10: The Flying Eagles vs Awesome Angels 8-10s1
TRANSP:OPAQUE
END:VEVENT
BEGIN:VEVENT
DTSTART:20190511T084500
DTEND:20190511T092500
DTSTAMP:20190210T110353Z
UID:2bf903cd10286d68340d1a5bfdcf344e@pvna.com.au
CREATED:20190210T190353Z
DESCRIPTION:2019 Autumn Section:8-10s\nRound:Rnd 12
LAST-MODIFIED:20190210T190353Z
LOCATION:Court: 2
SEQUENCE:0
STATUS:CONFIRMED
SUMMARY:8-10-Rnd 12: NB Tigers vs The Flying Eagles
TRANSP:OPAQUE
END:VEVENT
BEGIN:VEVENT
DTSTART:20190518T084500
DTEND:20190518T092500
DTSTAMP:20190210T110353Z
UID:83cd3b42356d8d2774e2bcd7d1f49223@pvna.com.au
CREATED:20190210T190353Z
DESCRIPTION:2019 Autumn Section:8-10s\nRound:Rnd 13
LAST-MODIFIED:20190210T190353Z
LOCATION:Court: 2
SEQUENCE:0
STATUS:CONFIRMED
SUMMARY:8-10-Rnd 13: The Flying Eagles vs SS Crystals
TRANSP:OPAQUE
END:VEVENT
BEGIN:VEVENT
DTSTART:20190525T084500
DTEND:20190525T092500
DTSTAMP:20190210T110353Z
UID:2fd25b7346bbff74630d43497fb50c5f@pvna.com.au
CREATED:20190210T190353Z
DESCRIPTION:2019 Autumn Section:8-10s\nRound:Rnd 14
LAST-MODIFIED:20190210T190353Z
LOCATION:Court: 2
SEQUENCE:0
STATUS:CONFIRMED
SUMMARY:8-10-Rnd 14: The Flying Eagles vs Awesome Angels 8-10s1
TRANSP:OPAQUE
END:VEVENT
BEGIN:VEVENT
DTSTART:20190615T084500
DTEND:20190615T092500
DTSTAMP:20190210T110353Z
UID:f140122f8a1f66581b093ee0bdf0b3f5@pvna.com.au
CREATED:20190210T190353Z
DESCRIPTION:2019 Autumn Section:8-10s\nRound:Rnd 16
LAST-MODIFIED:20190210T190353Z
LOCATION:Court: 2
SEQUENCE:0
STATUS:CONFIRMED
SUMMARY:8-10-Rnd 16: NB Tigers vs The Flying Eagles
TRANSP:OPAQUE
END:VEVENT
BEGIN:VEVENT
DTSTART:20190622T084500
DTEND:20190622T092500
DTSTAMP:20190210T110353Z
UID:f65dbabd90cb4c28a65938dfec708535@pvna.com.au
CREATED:20190210T190353Z
DESCRIPTION:2019 Autumn Section:8-10s\nRound:Rnd 17
LAST-MODIFIED:20190210T190353Z
LOCATION:Court: 2
SEQUENCE:0
STATUS:CONFIRMED
SUMMARY:8-10-Rnd 17: The Flying Eagles vs SS Crystals
TRANSP:OPAQUE
END:VEVENT
BEGIN:VEVENT
DTSTART:20190629T084500
DTEND:20190629T092500
DTSTAMP:20190210T110353Z
UID:1c83bdc3702ace4e4fe61f5a49ba359f@pvna.com.au
CREATED:20190210T190353Z
DESCRIPTION:2019 Autumn Section:8-10s\nRound:Rnd 18
LAST-MODIFIED:20190210T190353Z
LOCATION:Court: 2
SEQUENCE:0
STATUS:CONFIRMED
SUMMARY:8-10-Rnd 18: The Flying Eagles vs Awesome Angels 8-10s1
TRANSP:OPAQUE
END:VEVENT
END:VCALENDAR
