BEGIN:VCALENDAR
PRODID:-//Google Inc//Google Calendar 70.9054//EN
VERSION:2.0
CALSCALE:GREGORIAN
METHOD:PUBLISH
X-WR-CALNAME:PV Comets Wildcats 15s
X-WR-TIMEZONE:Australia/Sydney
X-WR-CALDESC:PV Comets Parkville Calendars
BEGIN:VEVENT
DTSTART:20190202T084500
DTEND:20190202T092500
DTSTAMP:20190224T120607Z
UID:6560cc85ae9a676aef6cc98e8c91944f@pvna.com.au
CREATED:20190224T200607Z
DESCRIPTION:2019 Autumn Section:15&Under\nRound:Rnd 1
LAST-MODIFIED:20190224T200607Z
LOCATION:Court: 2
SEQUENCE:0
STATUS:CONFIRMED
SUMMARY:15&U-Rnd 1: Wildcats 15s (32) vs Storm (19)
TRANSP:OPAQUE
END:VEVENT
BEGIN:VEVENT
DTSTART:20190209T093000
DTEND:20190209T101000
DTSTAMP:20190224T120607Z
UID:939270ba7407b63ccbe5f08a6203281c@pvna.com.au
CREATED:20190224T200607Z
DESCRIPTION:2019 Autumn Section:15&Under\nRound:Rnd 2
LAST-MODIFIED:20190224T200607Z
LOCATION:Court: 1
SEQUENCE:0
STATUS:CONFIRMED
SUMMARY:15&U-Rnd 2: Wildcats 15s (38) vs Awesome Angels 15s1 (15)
TRANSP:OPAQUE
END:VEVENT
BEGIN:VEVENT
DTSTART:20190216T093000
DTEND:20190216T101000
DTSTAMP:20190224T120607Z
UID:6255eee7d951aff17c8f16028fbbe98f@pvna.com.au
CREATED:20190224T200607Z
DESCRIPTION:2019 Autumn Section:15&Under\nRound:Rnd 3
LAST-MODIFIED:20190224T200607Z
LOCATION:Court: 2
SEQUENCE:0
STATUS:CONFIRMED
SUMMARY:15&U-Rnd 3: Wildcats 15s (38) vs SS Strikers (3)
TRANSP:OPAQUE
END:VEVENT
BEGIN:VEVENT
DTSTART:20190223T084500
DTEND:20190223T092500
DTSTAMP:20190224T120607Z
UID:c548f64a1ff2b3b6fe6d7130ef349e2e@pvna.com.au
CREATED:20190224T200607Z
DESCRIPTION:2019 Autumn Section:15&Under\nRound:Rnd 4
LAST-MODIFIED:20190224T200607Z
LOCATION:Court: 1
SEQUENCE:0
STATUS:CONFIRMED
SUMMARY:15&U-Rnd 4: Wildcats 15s (31) vs SS Rubies (24)
TRANSP:OPAQUE
END:VEVENT
BEGIN:VEVENT
DTSTART:20190302T084500
DTEND:20190302T092500
DTSTAMP:20190224T120607Z
UID:a50ab18d1d8aa3ce1c81f758cef700d3@pvna.com.au
CREATED:20190224T200607Z
DESCRIPTION:2019 Autumn Section:15&Under\nRound:Rnd 5\n\nCurrent Ladder:\nTeam            P  W  L  D  Pts\nWildcats 15s    4  4  0  0  16\nSS Saphires     4  4  0  0  16\nAwesome Angels 15s2 4  3  1  0  12\nPower           4  3  1  0  12\nNeon Nightmares 15s 4  3  1  0  12\nSS Rubies       4  2  2  0  8 \nSS Strikers     3  1  2  0  4 \nAwesome Angels 15s3 3  1  2  0  4 \nStorm           3  0  3  0  0 \nAwesome Angels 15s1 3  0  3  0  0 \nNB Lions        3  0  3  0  0 \n
LAST-MODIFIED:20190224T200607Z
LOCATION:Court: 1
SEQUENCE:0
STATUS:CONFIRMED
SUMMARY:15&U-Rnd 5: Wildcats 15s vs Power
TRANSP:OPAQUE
END:VEVENT
BEGIN:VEVENT
DTSTART:20190316T084500
DTEND:20190316T092500
DTSTAMP:20190224T120607Z
UID:49496e17f5e8e00bba15bde8a4d727c7@pvna.com.au
CREATED:20190224T200607Z
DESCRIPTION:2019 Autumn Section:15&Under\nRound:Rnd 6
LAST-MODIFIED:20190224T200607Z
LOCATION:Court: 2
SEQUENCE:0
STATUS:CONFIRMED
SUMMARY:15&U-Rnd 6: Wildcats 15s vs SS Rubies
TRANSP:OPAQUE
END:VEVENT
BEGIN:VEVENT
DTSTART:20190323T093000
DTEND:20190323T101000
DTSTAMP:20190224T120607Z
UID:e5ed37ea8467ad0bc156af9bab06ac76@pvna.com.au
CREATED:20190224T200607Z
DESCRIPTION:2019 Autumn Section:15&Under\nRound:Rnd 7
LAST-MODIFIED:20190224T200607Z
LOCATION:Court: 4
SEQUENCE:0
STATUS:CONFIRMED
SUMMARY:15&U-Rnd 7: Neon Nightmares 15s vs Wildcats 15s
TRANSP:OPAQUE
END:VEVENT
BEGIN:VEVENT
DTSTART:20190330T093000
DTEND:20190330T101000
DTSTAMP:20190224T120607Z
UID:c3d9952507264333716aed39fa5b0387@pvna.com.au
CREATED:20190224T200607Z
DESCRIPTION:2019 Autumn Section:15&Under\nRound:Rnd 8
LAST-MODIFIED:20190224T200607Z
LOCATION:Court: 2
SEQUENCE:0
STATUS:CONFIRMED
SUMMARY:15&U-Rnd 8: Wildcats 15s vs NB Lions
TRANSP:OPAQUE
END:VEVENT
BEGIN:VEVENT
DTSTART:20190406T101500
DTEND:20190406T105500
DTSTAMP:20190224T120607Z
UID:7a8e6e95cae97d3ee243392f55b8a904@pvna.com.au
CREATED:20190224T200607Z
DESCRIPTION:2019 Autumn Section:15&Under\nRound:Rnd 9
LAST-MODIFIED:20190224T200607Z
LOCATION:Court: 2
SEQUENCE:0
STATUS:CONFIRMED
SUMMARY:15&U-Rnd 9: Wildcats 15s vs SS Saphires
TRANSP:OPAQUE
END:VEVENT
BEGIN:VEVENT
DTSTART:20190427T101500
DTEND:20190427T105500
DTSTAMP:20190224T120607Z
UID:da999225e5db17cf39c17af9635ed412@pvna.com.au
CREATED:20190224T200607Z
DESCRIPTION:2019 Autumn Section:15&Under\nRound:Rnd 10
LAST-MODIFIED:20190224T200607Z
LOCATION:Court: 2
SEQUENCE:0
STATUS:CONFIRMED
SUMMARY:15&U-Rnd 10: Wildcats 15s vs Awesome Angels 15s3
TRANSP:OPAQUE
END:VEVENT
BEGIN:VEVENT
DTSTART:20190504T093000
DTEND:20190504T101000
DTSTAMP:20190224T120607Z
UID:710e6ce42e5943a16a86108672bf086c@pvna.com.au
CREATED:20190224T200607Z
DESCRIPTION:2019 Autumn Section:15&U Res\nRound:Rnd 11
LAST-MODIFIED:20190224T200607Z
LOCATION:Court: 99
SEQUENCE:0
STATUS:CONFIRMED
SUMMARY:15&U-Rnd 11: Wildcats 15s vs BYE
TRANSP:OPAQUE
END:VEVENT
BEGIN:VEVENT
DTSTART:20190511T101500
DTEND:20190511T105500
DTSTAMP:20190224T120607Z
UID:57572d226d8e61578c884eb80760333a@pvna.com.au
CREATED:20190224T200607Z
DESCRIPTION:2019 Autumn Section:15&Under\nRound:Rnd 12
LAST-MODIFIED:20190224T200607Z
LOCATION:Court: 2
SEQUENCE:0
STATUS:CONFIRMED
SUMMARY:15&U-Rnd 12: Wildcats 15s vs Storm
TRANSP:OPAQUE
END:VEVENT
BEGIN:VEVENT
DTSTART:20190525T101500
DTEND:20190525T105500
DTSTAMP:20190224T120607Z
UID:c9aec56968749de8e20d56341b108d60@pvna.com.au
CREATED:20190224T200607Z
DESCRIPTION:2019 Autumn Section:15&Under\nRound:Rnd 14
LAST-MODIFIED:20190224T200607Z
LOCATION:Court: 2
SEQUENCE:0
STATUS:CONFIRMED
SUMMARY:15&U-Rnd 14: Wildcats 15s vs SS Strikers
TRANSP:OPAQUE
END:VEVENT
BEGIN:VEVENT
DTSTART:20190601T093000
DTEND:20190601T101000
DTSTAMP:20190224T120607Z
UID:5bb6e4644687c1ba006a29cde425a35b@pvna.com.au
CREATED:20190224T200607Z
DESCRIPTION:2019 Autumn Section:15&Under\nRound:Rnd 15
LAST-MODIFIED:20190224T200607Z
LOCATION:Court: 4
SEQUENCE:0
STATUS:CONFIRMED
SUMMARY:15&U-Rnd 15: Wildcats 15s vs SS Rubies
TRANSP:OPAQUE
END:VEVENT
BEGIN:VEVENT
DTSTART:20190615T101500
DTEND:20190615T105500
DTSTAMP:20190224T120607Z
UID:afeca8cba739e039334a9f7c0a400054@pvna.com.au
CREATED:20190224T200607Z
DESCRIPTION:2019 Autumn Section:15&Under\nRound:Rnd 16
LAST-MODIFIED:20190224T200607Z
LOCATION:Court: 2
SEQUENCE:0
STATUS:CONFIRMED
SUMMARY:15&U-Rnd 16: Wildcats 15s vs Power
TRANSP:OPAQUE
END:VEVENT
BEGIN:VEVENT
DTSTART:20190622T093000
DTEND:20190622T101000
DTSTAMP:20190224T120607Z
UID:583c715b0271e769d63d6f2587b314ac@pvna.com.au
CREATED:20190224T200607Z
DESCRIPTION:2019 Autumn Section:15&Under\nRound:Rnd 17
LAST-MODIFIED:20190224T200607Z
LOCATION:Court: 3
SEQUENCE:0
STATUS:CONFIRMED
SUMMARY:15&U-Rnd 17: Wildcats 15s vs Neon Nightmares 15s
TRANSP:OPAQUE
END:VEVENT
BEGIN:VEVENT
DTSTART:20190629T101500
DTEND:20190629T105500
DTSTAMP:20190224T120607Z
UID:92d04d7caaa0fc15840834fe267d2e27@pvna.com.au
CREATED:20190224T200607Z
DESCRIPTION:2019 Autumn Section:15&Under\nRound:Rnd 18
LAST-MODIFIED:20190224T200607Z
LOCATION:Court: 2
SEQUENCE:0
STATUS:CONFIRMED
SUMMARY:15&U-Rnd 18: Wildcats 15s vs Awesome Angels 15s2
TRANSP:OPAQUE
END:VEVENT
END:VCALENDAR
