BEGIN:VCALENDAR
PRODID:-//Google Inc//Google Calendar 70.9054//EN
VERSION:2.0
CALSCALE:GREGORIAN
METHOD:PUBLISH
X-WR-CALNAME:PV Comets WiseOnes
X-WR-TIMEZONE:Australia/Sydney
X-WR-CALDESC:PV Comets Parkville Calendars
BEGIN:VEVENT
DTSTART:20190202T123000
DTEND:20190202T131000
DTSTAMP:20190224T120607Z
UID:c1add5c2b7aaab10b62eb2e900969641@pvna.com.au
CREATED:20190224T200607Z
DESCRIPTION:2019 Autumn Section:Mixed\nRound:Rnd 1
LAST-MODIFIED:20190224T200607Z
LOCATION:Court: 3
SEQUENCE:0
STATUS:CONFIRMED
SUMMARY:Mixe-Rnd 1: WiseOnes (24) vs Treasures (13)
TRANSP:OPAQUE
END:VEVENT
BEGIN:VEVENT
DTSTART:20190209T123000
DTEND:20190209T131000
DTSTAMP:20190224T120607Z
UID:22c1f820b8dda67b3b3fa3da05b2ed36@pvna.com.au
CREATED:20190224T200607Z
DESCRIPTION:2019 Autumn Section:Mixed\nRound:Rnd 2
LAST-MODIFIED:20190224T200607Z
LOCATION:Court: 3
SEQUENCE:0
STATUS:CONFIRMED
SUMMARY:Mixe-Rnd 2: NB Wombat (16) vs WiseOnes (14)
TRANSP:OPAQUE
END:VEVENT
BEGIN:VEVENT
DTSTART:20190216T123000
DTEND:20190216T131000
DTSTAMP:20190224T120607Z
UID:7f3f543c2a9aa33731d5166e233ea061@pvna.com.au
CREATED:20190224T200607Z
DESCRIPTION:2019 Autumn Section:Mixed\nRound:Rnd 3
LAST-MODIFIED:20190224T200607Z
LOCATION:Court: 3
SEQUENCE:0
STATUS:CONFIRMED
SUMMARY:Mixe-Rnd 3: WiseOnes (17) vs Awesome Angels Mixed (7)
TRANSP:OPAQUE
END:VEVENT
BEGIN:VEVENT
DTSTART:20190223T123000
DTEND:20190223T131000
DTSTAMP:20190224T120607Z
UID:230abb4cc87a0b22ba27c49f34a668ab@pvna.com.au
CREATED:20190224T200607Z
DESCRIPTION:2019 Autumn Section:Mixed\nRound:Rnd 4
LAST-MODIFIED:20190224T200607Z
LOCATION:Court: 3
SEQUENCE:0
STATUS:CONFIRMED
SUMMARY:Mixe-Rnd 4: WiseOnes (22) vs Treasures (11)
TRANSP:OPAQUE
END:VEVENT
BEGIN:VEVENT
DTSTART:20190302T123000
DTEND:20190302T131000
DTSTAMP:20190224T120607Z
UID:4568ead5761855ad511e8b277dc0d97f@pvna.com.au
CREATED:20190224T200607Z
DESCRIPTION:2019 Autumn Section:Mixed\nRound:Rnd 5\n\nCurrent Ladder:\nTeam            P  W  L  D  Pts\nNB Wombat       4  4  0  0  16\nWiseOnes        4  3  1  0  12\nTreasures       4  1  3  0  4 \nAwesome Angels Mixed 4  0  4  0  0 \n
LAST-MODIFIED:20190224T200607Z
LOCATION:Court: 2
SEQUENCE:0
STATUS:CONFIRMED
SUMMARY:Mixe-Rnd 5: NB Wombat vs WiseOnes
TRANSP:OPAQUE
END:VEVENT
BEGIN:VEVENT
DTSTART:20190316T123000
DTEND:20190316T131000
DTSTAMP:20190224T120607Z
UID:bdf6f0ed41868fe9488250cd634c265d@pvna.com.au
CREATED:20190224T200607Z
DESCRIPTION:2019 Autumn Section:Mixed\nRound:Rnd 6
LAST-MODIFIED:20190224T200607Z
LOCATION:Court: 3
SEQUENCE:0
STATUS:CONFIRMED
SUMMARY:Mixe-Rnd 6: WiseOnes vs Awesome Angels Mixed
TRANSP:OPAQUE
END:VEVENT
BEGIN:VEVENT
DTSTART:20190330T123000
DTEND:20190330T131000
DTSTAMP:20190224T120607Z
UID:d865054b2eaaf19a0206d6e450bba1a9@pvna.com.au
CREATED:20190224T200607Z
DESCRIPTION:2019 Autumn Section:Mixed\nRound:Rnd 8
LAST-MODIFIED:20190224T200607Z
LOCATION:Court: 2
SEQUENCE:0
STATUS:CONFIRMED
SUMMARY:Mixe-Rnd 8: WiseOnes vs Treasures
TRANSP:OPAQUE
END:VEVENT
BEGIN:VEVENT
DTSTART:20190406T123000
DTEND:20190406T131000
DTSTAMP:20190224T120607Z
UID:49260b3b411c3d73d470766e95b9d599@pvna.com.au
CREATED:20190224T200607Z
DESCRIPTION:2019 Autumn Section:Mixed\nRound:Rnd 9
LAST-MODIFIED:20190224T200607Z
LOCATION:Court: 1
SEQUENCE:0
STATUS:CONFIRMED
SUMMARY:Mixe-Rnd 9: NB Wombat vs WiseOnes
TRANSP:OPAQUE
END:VEVENT
BEGIN:VEVENT
DTSTART:20190427T123000
DTEND:20190427T131000
DTSTAMP:20190224T120607Z
UID:4e1a1dfe43bab821a57f08a31f259e22@pvna.com.au
CREATED:20190224T200607Z
DESCRIPTION:2019 Autumn Section:Mixed\nRound:Rnd 10
LAST-MODIFIED:20190224T200607Z
LOCATION:Court: 1
SEQUENCE:0
STATUS:CONFIRMED
SUMMARY:Mixe-Rnd 10: WiseOnes vs Awesome Angels Mixed
TRANSP:OPAQUE
END:VEVENT
BEGIN:VEVENT
DTSTART:20190511T123000
DTEND:20190511T131000
DTSTAMP:20190224T120607Z
UID:541192b704f9f63eb6db2de0af130492@pvna.com.au
CREATED:20190224T200607Z
DESCRIPTION:2019 Autumn Section:Mixed\nRound:Rnd 12
LAST-MODIFIED:20190224T200607Z
LOCATION:Court: 2
SEQUENCE:0
STATUS:CONFIRMED
SUMMARY:Mixe-Rnd 12: WiseOnes vs Treasures
TRANSP:OPAQUE
END:VEVENT
BEGIN:VEVENT
DTSTART:20190518T123000
DTEND:20190518T131000
DTSTAMP:20190224T120607Z
UID:3b83593e217e757112801387cc71e61b@pvna.com.au
CREATED:20190224T200607Z
DESCRIPTION:2019 Autumn Section:Mixed\nRound:Rnd 13
LAST-MODIFIED:20190224T200607Z
LOCATION:Court: 1
SEQUENCE:0
STATUS:CONFIRMED
SUMMARY:Mixe-Rnd 13: NB Wombat vs WiseOnes
TRANSP:OPAQUE
END:VEVENT
BEGIN:VEVENT
DTSTART:20190525T123000
DTEND:20190525T131000
DTSTAMP:20190224T120607Z
UID:8e6064fed464c38c7544082ef266440a@pvna.com.au
CREATED:20190224T200607Z
DESCRIPTION:2019 Autumn Section:Mixed\nRound:Rnd 14
LAST-MODIFIED:20190224T200607Z
LOCATION:Court: 1
SEQUENCE:0
STATUS:CONFIRMED
SUMMARY:Mixe-Rnd 14: WiseOnes vs Awesome Angels Mixed
TRANSP:OPAQUE
END:VEVENT
BEGIN:VEVENT
DTSTART:20190615T123000
DTEND:20190615T131000
DTSTAMP:20190224T120607Z
UID:341afd625f1d635bc1305541e5d49c05@pvna.com.au
CREATED:20190224T200607Z
DESCRIPTION:2019 Autumn Section:Mixed\nRound:Rnd 16
LAST-MODIFIED:20190224T200607Z
LOCATION:Court: 2
SEQUENCE:0
STATUS:CONFIRMED
SUMMARY:Mixe-Rnd 16: WiseOnes vs Treasures
TRANSP:OPAQUE
END:VEVENT
BEGIN:VEVENT
DTSTART:20190622T113000
DTEND:20190622T131000
DTSTAMP:20190224T120607Z
UID:89f3aa4d755ddeb972c6fe6d8164deff@pvna.com.au
CREATED:20190224T200607Z
DESCRIPTION:2019 Autumn Section:Mixed\nRound:Rnd 17
LAST-MODIFIED:20190224T200607Z
LOCATION:Court: 4
SEQUENCE:0
STATUS:CONFIRMED
SUMMARY:Mixe-Rnd 17: NB Wombat vs WiseOnes
TRANSP:OPAQUE
END:VEVENT
BEGIN:VEVENT
DTSTART:20190629T123000
DTEND:20190629T131000
DTSTAMP:20190224T120607Z
UID:0511ab6ac878e48c4e3f4a820541ad13@pvna.com.au
CREATED:20190224T200607Z
DESCRIPTION:2019 Autumn Section:Mixed\nRound:Rnd 18
LAST-MODIFIED:20190224T200607Z
LOCATION:Court: 1
SEQUENCE:0
STATUS:CONFIRMED
SUMMARY:Mixe-Rnd 18: WiseOnes vs Awesome Angels Mixed
TRANSP:OPAQUE
END:VEVENT
END:VCALENDAR
